BEGIN:VCALENDAR
VERSION:2.0
PRODID:-//International Society for Concrete Pavements - ECPv6.15.20//NONSGML v1.0//EN
CALSCALE:GREGORIAN
METHOD:PUBLISH
X-ORIGINAL-URL:https://www.concretepavements.org
X-WR-CALDESC:Events for International Society for Concrete Pavements
REFRESH-INTERVAL;VALUE=DURATION:PT1H
X-Robots-Tag:noindex
X-PUBLISHED-TTL:PT1H
BEGIN:VTIMEZONE
TZID:America/New_York
BEGIN:DAYLIGHT
TZOFFSETFROM:-0500
TZOFFSETTO:-0400
TZNAME:EDT
DTSTART:20210314T070000
END:DAYLIGHT
BEGIN:STANDARD
TZOFFSETFROM:-0400
TZOFFSETTO:-0500
TZNAME:EST
DTSTART:20211107T060000
END:STANDARD
BEGIN:DAYLIGHT
TZOFFSETFROM:-0500
TZOFFSETTO:-0400
TZNAME:EDT
DTSTART:20220313T070000
END:DAYLIGHT
BEGIN:STANDARD
TZOFFSETFROM:-0400
TZOFFSETTO:-0500
TZNAME:EST
DTSTART:20221106T060000
END:STANDARD
BEGIN:DAYLIGHT
TZOFFSETFROM:-0500
TZOFFSETTO:-0400
TZNAME:EDT
DTSTART:20230312T070000
END:DAYLIGHT
BEGIN:STANDARD
TZOFFSETFROM:-0400
TZOFFSETTO:-0500
TZNAME:EST
DTSTART:20231105T060000
END:STANDARD
END:VTIMEZONE
BEGIN:VEVENT
DTSTART;TZID=America/New_York:20220303T080000
DTEND;TZID=America/New_York:20220305T170000
DTSTAMP:20260423T131400
CREATED:20220131T051217Z
LAST-MODIFIED:20220131T051217Z
UID:21702-1646294400-1646499600@www.concretepavements.org
SUMMARY:Register NOW for ISCP Member NPCA “Precast Show 2022”+ Silent Auction-forms due Feb 4\, KC\, Mo
DESCRIPTION:Donations Being Accepted for 2022 Silent Auction by February 4th: https://precast.org \nShare this:\n				Email a link to a friend (Opens in new window)\n				Email\n			\n				Print (Opens in new window)\n				Print\n			\n				Share on Facebook (Opens in new window)\n				Facebook\n			\n				Share on LinkedIn (Opens in new window)\n				LinkedIn\n			\n				Share on X (Opens in new window)\n				X
URL:https://www.concretepavements.org/event/register-now-for-iscp-member-npca-precast-show-2022-silent-auction-forms-due-feb-4-kc-mo/
LOCATION:Kansas City Convention Center\, 301 W. 13th Street\, Kansas City\, MO\, 64105\, United States
CATEGORIES:Auction,Conferences
ATTACH;FMTTYPE=image/png:https://www.concretepavements.org/wp-content/uploads/2022/01/Precast-HOME.png
END:VEVENT
END:VCALENDAR