BEGIN:VCALENDAR
VERSION:2.0
PRODID:-//International Society for Concrete Pavements - ECPv6.15.20//NONSGML v1.0//EN
CALSCALE:GREGORIAN
METHOD:PUBLISH
X-ORIGINAL-URL:https://www.concretepavements.org
X-WR-CALDESC:Events for International Society for Concrete Pavements
REFRESH-INTERVAL;VALUE=DURATION:PT1H
X-Robots-Tag:noindex
X-PUBLISHED-TTL:PT1H
BEGIN:VTIMEZONE
TZID:America/New_York
BEGIN:DAYLIGHT
TZOFFSETFROM:-0500
TZOFFSETTO:-0400
TZNAME:EDT
DTSTART:20180311T070000
END:DAYLIGHT
BEGIN:STANDARD
TZOFFSETFROM:-0400
TZOFFSETTO:-0500
TZNAME:EST
DTSTART:20181104T060000
END:STANDARD
BEGIN:DAYLIGHT
TZOFFSETFROM:-0500
TZOFFSETTO:-0400
TZNAME:EDT
DTSTART:20190310T070000
END:DAYLIGHT
BEGIN:STANDARD
TZOFFSETFROM:-0400
TZOFFSETTO:-0500
TZNAME:EST
DTSTART:20191103T060000
END:STANDARD
BEGIN:DAYLIGHT
TZOFFSETFROM:-0500
TZOFFSETTO:-0400
TZNAME:EDT
DTSTART:20200308T070000
END:DAYLIGHT
BEGIN:STANDARD
TZOFFSETFROM:-0400
TZOFFSETTO:-0500
TZNAME:EST
DTSTART:20201101T060000
END:STANDARD
BEGIN:DAYLIGHT
TZOFFSETFROM:-0500
TZOFFSETTO:-0400
TZNAME:EDT
DTSTART:20210314T070000
END:DAYLIGHT
BEGIN:STANDARD
TZOFFSETFROM:-0400
TZOFFSETTO:-0500
TZNAME:EST
DTSTART:20211107T060000
END:STANDARD
BEGIN:DAYLIGHT
TZOFFSETFROM:-0500
TZOFFSETTO:-0400
TZNAME:EDT
DTSTART:20220313T070000
END:DAYLIGHT
BEGIN:STANDARD
TZOFFSETFROM:-0400
TZOFFSETTO:-0500
TZNAME:EST
DTSTART:20221106T060000
END:STANDARD
BEGIN:DAYLIGHT
TZOFFSETFROM:-0500
TZOFFSETTO:-0400
TZNAME:EDT
DTSTART:20230312T070000
END:DAYLIGHT
BEGIN:STANDARD
TZOFFSETFROM:-0400
TZOFFSETTO:-0500
TZNAME:EST
DTSTART:20231105T060000
END:STANDARD
END:VTIMEZONE
BEGIN:VEVENT
DTSTART;VALUE=DATE:20220715
DTEND;VALUE=DATE:20220716
DTSTAMP:20260423T131403
CREATED:20220516T034439Z
LAST-MODIFIED:20220516T034439Z
UID:23050-1657843200-1657929599@www.concretepavements.org
SUMMARY:DEADLINE: NOMINATIONS for ACPA “33rd Annual National Excellence in Concrete Pavements Awards”
DESCRIPTION:Share this:\n				Email a link to a friend (Opens in new window)\n				Email\n			\n				Print (Opens in new window)\n				Print\n			\n				Share on Facebook (Opens in new window)\n				Facebook\n			\n				Share on LinkedIn (Opens in new window)\n				LinkedIn\n			\n				Share on X (Opens in new window)\n				X
URL:https://www.concretepavements.org/event/deadline-nominations-for-acpa-33rd-annual-national-excellence-in-concrete-pavements-awards/
CATEGORIES:Awards,Nomination Deadline
ATTACH;FMTTYPE=image/jpeg:https://www.concretepavements.org/wp-content/uploads/2022/05/ACPAExcellence_HOME.jpg
END:VEVENT
BEGIN:VEVENT
DTSTART;TZID=America/New_York:20220301T140000
DTEND;TZID=America/New_York:20220301T200000
DTSTAMP:20260423T131403
CREATED:20220131T205315Z
LAST-MODIFIED:20220201T024524Z
UID:21760-1646143200-1646164800@www.concretepavements.org
SUMMARY:ASCP 1st FORUM 2022: Forum\, A.M.\, + Inaugural Awards Eve-Nom Forms Due Feb 14\, NSW\, Australia
DESCRIPTION:ISCP Article: www.concretepavements.org/2022/01/31/ascp-1st-forum-2022-mar-1-forum-am-inaugural-awards-eve-nom-forms-due-feb-14-nsw-australia/ \nShare this:\n				Email a link to a friend (Opens in new window)\n				Email\n			\n				Print (Opens in new window)\n				Print\n			\n				Share on Facebook (Opens in new window)\n				Facebook\n			\n				Share on LinkedIn (Opens in new window)\n				LinkedIn\n			\n				Share on X (Opens in new window)\n				X
URL:https://www.concretepavements.org/event/ascp-1st-forum-2022-forum-a-m-inaugural-industry-awards-evening-noms-due-feb-18/
LOCATION:West Ryde Leagues Club\, 117 Ryedale Road\, NSW\, Sydney\, 2114 |\, Australia
CATEGORIES:Awards,Conferences,Meetings,Nomination Deadline
ATTACH;FMTTYPE=image/jpeg:https://www.concretepavements.org/wp-content/uploads/2022/01/ASCPFORUM2022-HOME.jpg
ORGANIZER;CN="ASCP":MAILTO:exec@concretepavements.com.au
END:VEVENT
BEGIN:VEVENT
DTSTART;TZID=America/New_York:20220220T080000
DTEND;TZID=America/New_York:20220226T170000
DTSTAMP:20260423T131403
CREATED:20220128T234004Z
LAST-MODIFIED:20220323T031414Z
UID:21667-1645344000-1645894800@www.concretepavements.org
SUMMARY:U.S. “2022 Nat’l Engineers Week”: Engage Kids\, “Future City” Comp.\, Events\, Chats\, & more!
DESCRIPTION:Share this:\n				Email a link to a friend (Opens in new window)\n				Email\n			\n				Print (Opens in new window)\n				Print\n			\n				Share on Facebook (Opens in new window)\n				Facebook\n			\n				Share on LinkedIn (Opens in new window)\n				LinkedIn\n			\n				Share on X (Opens in new window)\n				X
URL:https://www.concretepavements.org/event/u-s-2022-natl-engineers-week-engage-kids-future-city-comp-events-chats-more/
CATEGORIES:Awards,Contest,Exhibitions,Lecture,Live Broadcast,Live Demonstrations,Live Webinars,Presentation,Tech Day,VIRTUAL Meeting
ATTACH;FMTTYPE=image/jpeg:https://www.concretepavements.org/wp-content/uploads/2022/01/EngineersWeek-HOME.jpg
ORGANIZER;CN="National Society of Professional Engineers (NSPE)":MAILTO:memserv@nspe.org
END:VEVENT
BEGIN:VEVENT
DTSTART;VALUE=DATE:20220214
DTEND;VALUE=DATE:20220215
DTSTAMP:20260423T131403
CREATED:20211218T223834Z
LAST-MODIFIED:20220201T024358Z
UID:21094-1644796800-1644883199@www.concretepavements.org
SUMMARY:DEADLINE: Nominations for ASCP Awards for Technical Excellence—Will be Presented at 1st FORUM 2022 Mar. 1 during Awards Eve
DESCRIPTION:ISCP article: www.concretepavements.org/2022/01/31/ascp-1st-forum-2022-mar-1-forum-am-inaugural-awards-eve-nom-forms-due-feb-14-nsw-australia/ \nShare this:\n				Email a link to a friend (Opens in new window)\n				Email\n			\n				Print (Opens in new window)\n				Print\n			\n				Share on Facebook (Opens in new window)\n				Facebook\n			\n				Share on LinkedIn (Opens in new window)\n				LinkedIn\n			\n				Share on X (Opens in new window)\n				X
URL:https://www.concretepavements.org/event/deadline-ascp-awards-for-technical-excellence/
LOCATION:West Ryde Leagues Club\, 117 Ryedale Road\, NSW\, Sydney\, 2114 |\, Australia
CATEGORIES:Awards,Nomination Deadline
ATTACH;FMTTYPE=image/jpeg:https://www.concretepavements.org/wp-content/uploads/2021/12/ASCPNominaForm-scaled.jpg
END:VEVENT
BEGIN:VEVENT
DTSTART;TZID=America/New_York:20201201T080000
DTEND;TZID=America/New_York:20201203T170000
DTSTAMP:20260423T131403
CREATED:20200924T015056Z
LAST-MODIFIED:20200924T015056Z
UID:16479-1606809600-1607014800@www.concretepavements.org
SUMMARY:ACPA 57th Annual Meeting Pivots to a VIRTUAL EVENT!
DESCRIPTION:Final schedule will be released soon … \nShare this:\n				Email a link to a friend (Opens in new window)\n				Email\n			\n				Print (Opens in new window)\n				Print\n			\n				Share on Facebook (Opens in new window)\n				Facebook\n			\n				Share on LinkedIn (Opens in new window)\n				LinkedIn\n			\n				Share on X (Opens in new window)\n				X
URL:https://www.concretepavements.org/event/acpa-57th-annual-meeting-pivots-to-a-virtual-event/
LOCATION:Online
CATEGORIES:Awards,VIRTUAL Meeting
END:VEVENT
BEGIN:VEVENT
DTSTART;VALUE=DATE:20200930
DTEND;VALUE=DATE:20201001
DTSTAMP:20260423T131403
CREATED:20200715T185513Z
LAST-MODIFIED:20200715T185545Z
UID:15952-1601424000-1601510399@www.concretepavements.org
SUMMARY:DEADLINE: R&B "Top 10 Roads Awards" & "Top 10 Bridge Awards" Nominations
DESCRIPTION:ROADS & BRIDGES Magazine is calling for submittals for their annual “R&B Top 10 Roads Awards” and “Top 10 Bridge Awards” Program by September 30\, 2020.\nTo nominate a TOP ROAD PROJECT\, please go to: https://www.roadsbridges.com/top10roads\nTo enter a TOP BRIDGE PROJECT\, please go to: https://www.roadsbridges.com/top10bridges \nShare this:\n				Email a link to a friend (Opens in new window)\n				Email\n			\n				Print (Opens in new window)\n				Print\n			\n				Share on Facebook (Opens in new window)\n				Facebook\n			\n				Share on LinkedIn (Opens in new window)\n				LinkedIn\n			\n				Share on X (Opens in new window)\n				X
URL:https://www.concretepavements.org/event/rb-top-10-roads-awards-top-10-bridge-awards-nominations-deadline/
LOCATION:Online\, 3030 W. Salt Creek Lane\, #201\, Chicago\, IL\, 60005\, United States
CATEGORIES:Awards
ORGANIZER;CN="Roads & Bridges Roads Awards":MAILTO:bbudzynski@sgcmail.com
END:VEVENT
BEGIN:VEVENT
DTSTART;VALUE=DATE:20200703
DTEND;VALUE=DATE:20200704
DTSTAMP:20260423T131403
CREATED:20200428T193911Z
LAST-MODIFIED:20200428T193911Z
UID:15263-1593734400-1593820799@www.concretepavements.org
SUMMARY:Deadline for ACPA Nominations for “Excellence in Concrete Paving Awards”
DESCRIPTION:Share this:\n				Email a link to a friend (Opens in new window)\n				Email\n			\n				Print (Opens in new window)\n				Print\n			\n				Share on Facebook (Opens in new window)\n				Facebook\n			\n				Share on LinkedIn (Opens in new window)\n				LinkedIn\n			\n				Share on X (Opens in new window)\n				X
URL:https://www.concretepavements.org/event/deadline-for-acpa-nominations-for-excellence-in-concrete-paving-awards/
LOCATION:Online
CATEGORIES:Awards
END:VEVENT
BEGIN:VEVENT
DTSTART;TZID=America/New_York:20191113T170000
DTEND;TZID=America/New_York:20191114T160000
DTSTAMP:20260423T131403
CREATED:20191026T183330Z
LAST-MODIFIED:20191026T183330Z
UID:12947-1573664400-1573747200@www.concretepavements.org
SUMMARY:"2019 Iowa Better Concrete Conference"—Register by Nov. 7
DESCRIPTION:Share this:\n				Email a link to a friend (Opens in new window)\n				Email\n			\n				Print (Opens in new window)\n				Print\n			\n				Share on Facebook (Opens in new window)\n				Facebook\n			\n				Share on LinkedIn (Opens in new window)\n				LinkedIn\n			\n				Share on X (Opens in new window)\n				X
URL:https://www.concretepavements.org/event/2019-iowa-better-concrete-conference-register-by-nov-7/
LOCATION:Iowa State University\, Gateway Hotel & Scheman Continuing Education Building\, 2100 Green Hills Drive\, IA\, 50014\, United States
CATEGORIES:Awards,Meetings
ORGANIZER;CN="ACI-Iowa Chapter":MAILTO:smallicoat@concretestate.org
END:VEVENT
BEGIN:VEVENT
DTSTART;VALUE=DATE:20191108
DTEND;VALUE=DATE:20191109
DTSTAMP:20260423T131403
CREATED:20191029T145654Z
LAST-MODIFIED:20191029T145654Z
UID:12996-1573171200-1573257599@www.concretepavements.org
SUMMARY:Deadline: ENR Magazine’s PHOTO CONTEST! “2019 Year in Construction”
DESCRIPTION:Share this:\n				Email a link to a friend (Opens in new window)\n				Email\n			\n				Print (Opens in new window)\n				Print\n			\n				Share on Facebook (Opens in new window)\n				Facebook\n			\n				Share on LinkedIn (Opens in new window)\n				LinkedIn\n			\n				Share on X (Opens in new window)\n				X
URL:https://www.concretepavements.org/event/deadline-enr-magazines-photo-contest-2019-year-in-construction/
LOCATION:Online
CATEGORIES:Awards,Deadline
END:VEVENT
BEGIN:VEVENT
DTSTART;VALUE=DATE:20190802
DTEND;VALUE=DATE:20190803
DTSTAMP:20260423T131403
CREATED:20190720T044927Z
LAST-MODIFIED:20190720T044927Z
UID:12157-1564704000-1564790399@www.concretepavements.org
SUMMARY:DEADLINE: Submit “ACPA Distinguished Service Award” Nominations
DESCRIPTION:The American Concrete Pavement Association (ACPA) Members and affiliates may submit nominations for ACPA’s 2019 Distinguished Service and Recognition Awards through August 2\, 2019\nShare this:\n				Email a link to a friend (Opens in new window)\n				Email\n			\n				Print (Opens in new window)\n				Print\n			\n				Share on Facebook (Opens in new window)\n				Facebook\n			\n				Share on LinkedIn (Opens in new window)\n				LinkedIn\n			\n				Share on X (Opens in new window)\n				X
URL:https://www.concretepavements.org/event/deadline-submit-acpa-distinguished-service-award-nominations/
LOCATION:Online
CATEGORIES:Awards
END:VEVENT
BEGIN:VEVENT
DTSTART;VALUE=DATE:20190712
DTEND;VALUE=DATE:20190713
DTSTAMP:20260423T131403
CREATED:20190530T182504Z
LAST-MODIFIED:20190530T183255Z
UID:11829-1562889600-1562975999@www.concretepavements.org
SUMMARY:DEADLINE: Submit Your Projects for Consideration for the ACPA “Excellence in Concrete Pavements Awards” by July 12th\, 2019
DESCRIPTION:ISCP May 2019 article on the 5th ASCP Conference: https://www.concretepavements.org/2019/05/29/submit-your-projects-for-consideration-for-the-acpa-excellence-in-concrete-pavements-awards-by-july-12th-2019/ \nShare this:\n				Email a link to a friend (Opens in new window)\n				Email\n			\n				Print (Opens in new window)\n				Print\n			\n				Share on Facebook (Opens in new window)\n				Facebook\n			\n				Share on LinkedIn (Opens in new window)\n				LinkedIn\n			\n				Share on X (Opens in new window)\n				X
URL:https://www.concretepavements.org/event/deadline-submit-your-projects-for-consideration-for-the-acpa-excellence-in-concrete-pavements-awards-by-july-12th-2019/
LOCATION:Online
CATEGORIES:Awards,Deadline
END:VEVENT
END:VCALENDAR