BEGIN:VCALENDAR
VERSION:2.0
PRODID:-//International Society for Concrete Pavements - ECPv6.15.20//NONSGML v1.0//EN
CALSCALE:GREGORIAN
METHOD:PUBLISH
X-WR-CALNAME:International Society for Concrete Pavements
X-ORIGINAL-URL:https://www.concretepavements.org
X-WR-CALDESC:Events for International Society for Concrete Pavements
REFRESH-INTERVAL;VALUE=DURATION:PT1H
X-Robots-Tag:noindex
X-PUBLISHED-TTL:PT1H
BEGIN:VTIMEZONE
TZID:America/New_York
BEGIN:DAYLIGHT
TZOFFSETFROM:-0500
TZOFFSETTO:-0400
TZNAME:EDT
DTSTART:20200308T070000
END:DAYLIGHT
BEGIN:STANDARD
TZOFFSETFROM:-0400
TZOFFSETTO:-0500
TZNAME:EST
DTSTART:20201101T060000
END:STANDARD
BEGIN:DAYLIGHT
TZOFFSETFROM:-0500
TZOFFSETTO:-0400
TZNAME:EDT
DTSTART:20210314T070000
END:DAYLIGHT
BEGIN:STANDARD
TZOFFSETFROM:-0400
TZOFFSETTO:-0500
TZNAME:EST
DTSTART:20211107T060000
END:STANDARD
BEGIN:DAYLIGHT
TZOFFSETFROM:-0500
TZOFFSETTO:-0400
TZNAME:EDT
DTSTART:20220313T070000
END:DAYLIGHT
BEGIN:STANDARD
TZOFFSETFROM:-0400
TZOFFSETTO:-0500
TZNAME:EST
DTSTART:20221106T060000
END:STANDARD
BEGIN:DAYLIGHT
TZOFFSETFROM:-0500
TZOFFSETTO:-0400
TZNAME:EDT
DTSTART:20230312T070000
END:DAYLIGHT
BEGIN:STANDARD
TZOFFSETFROM:-0400
TZOFFSETTO:-0500
TZNAME:EST
DTSTART:20231105T060000
END:STANDARD
END:VTIMEZONE
BEGIN:VEVENT
DTSTART;TZID=America/New_York:20220220T080000
DTEND;TZID=America/New_York:20220226T170000
DTSTAMP:20260425T071102
CREATED:20220128T234004Z
LAST-MODIFIED:20220323T031414Z
UID:21667-1645344000-1645894800@www.concretepavements.org
SUMMARY:U.S. “2022 Nat’l Engineers Week”: Engage Kids\, “Future City” Comp.\, Events\, Chats\, & more!
DESCRIPTION:Share this:\n				Email a link to a friend (Opens in new window)\n				Email\n			\n				Print (Opens in new window)\n				Print\n			\n				Share on Facebook (Opens in new window)\n				Facebook\n			\n				Share on LinkedIn (Opens in new window)\n				LinkedIn\n			\n				Share on X (Opens in new window)\n				X
URL:https://www.concretepavements.org/event/u-s-2022-natl-engineers-week-engage-kids-future-city-comp-events-chats-more/
CATEGORIES:Awards,Contest,Exhibitions,Lecture,Live Broadcast,Live Demonstrations,Live Webinars,Presentation,Tech Day,VIRTUAL Meeting
ATTACH;FMTTYPE=image/jpeg:https://www.concretepavements.org/wp-content/uploads/2022/01/EngineersWeek-HOME.jpg
ORGANIZER;CN="National Society of Professional Engineers (NSPE)":MAILTO:memserv@nspe.org
END:VEVENT
BEGIN:VEVENT
DTSTART;TZID=America/New_York:20210930T153000
DTEND;TZID=America/New_York:20210930T170000
DTSTAMP:20260425T071102
CREATED:20210920T025318Z
LAST-MODIFIED:20210920T030248Z
UID:20086-1633015800-1633021200@www.concretepavements.org
SUMMARY:VIRTUAL International CONTEST for Civil Engineering STUDENTS: “Using Design of Concrete Pavements” during RC 2021
DESCRIPTION:3rd UNIVERSITY IBERO-AMERICAN CONTEST of the UNICRETO III CONCRETE\nThe basis of the contest: USING THE DESIGN OF CONCRETE PAVEMENTS\nOFFICIAL CONTEST SESSION:\nThursday | September 30 | 3:30 pm Colombia timeDesign platform: Pavement Designer\n2-hour presentation on the design methodology:\nTuesday | September 28 | 2:00 pm – 4:00 pm Colombia time\nQuestion & Answer Session\n4:00 pm Colombia time \nCOMPETITION • COMPETITION RULES • PROGRAM • REGISTER NOW!!: https://reuniondelconcreto-com.translate.goog/unicreto-3/?_x_tr_sl=auto&_x_tr_tl=en&_x_tr_hl=en-US&_x_tr_pto=ajax\,elem\nFor more information\, please go to:\nPROCEMCO Conference Website ENGLISH: https://reuniondelconcreto-com.translate.goog/?_x_tr_sl=auto&_x_tr_tl=en&_x_tr_hl=en-US&_x_tr_pto=ajax\,elem\nPROCEMCO Conference Website: https://reuniondelconcreto.com \nShare this:\n				Email a link to a friend (Opens in new window)\n				Email\n			\n				Print (Opens in new window)\n				Print\n			\n				Share on Facebook (Opens in new window)\n				Facebook\n			\n				Share on LinkedIn (Opens in new window)\n				LinkedIn\n			\n				Share on X (Opens in new window)\n				X
URL:https://www.concretepavements.org/event/virtual-international-contest-for-civil-engineering-students-using-design-of-concrete-pavements-during-rc-2021-2/
CATEGORIES:Contest
ATTACH;FMTTYPE=image/jpeg:https://www.concretepavements.org/wp-content/uploads/2021/09/ContestStudents.jpg
ORGANIZER;CN="La C%C3%A1mara Colombiana del Cemento y el Concreto PROCEMCO (Colombian Chamber of Cement and Concrete PROCEMCO)":MAILTO:kmartin@procem.co
END:VEVENT
BEGIN:VEVENT
DTSTART;TZID=America/New_York:20210928T140000
DTEND;TZID=America/New_York:20210928T160000
DTSTAMP:20260425T071102
CREATED:20210920T024919Z
LAST-MODIFIED:20210920T030550Z
UID:20084-1632837600-1632844800@www.concretepavements.org
SUMMARY:VIRTUAL International CONTEST for Civil Engineering STUDENTS: “Using Design of Concrete Pavements” during RC 2021
DESCRIPTION:3rd UNIVERSITY IBERO-AMERICAN CONTEST of the UNICRETO III CONCRETE\nThe basis of the contest: USING THE DESIGN OF CONCRETE PAVEMENTS\n2-hour presentation on the design methodology:\nTuesday | September 28 | 2:00 pm – 4:00 pm Colombia time\nQuestion & Answer Session\n4:00 pm Colombia time\nOFFICIAL CONTEST SESSION:\nThursday | September 30 | 3:30 pm Colombia timeDesign platform: Pavement Designer \nCOMPETITION • COMPETITION RULES • PROGRAM • REGISTER NOW!!: https://reuniondelconcreto-com.translate.goog/unicreto-3/?_x_tr_sl=auto&_x_tr_tl=en&_x_tr_hl=en-US&_x_tr_pto=ajax\,elem\nFor more information\, please go to:\nPROCEMCO Conference Website ENGLISH: https://reuniondelconcreto-com.translate.goog/?_x_tr_sl=auto&_x_tr_tl=en&_x_tr_hl=en-US&_x_tr_pto=ajax\,elem\nPROCEMCO Conference Website: https://reuniondelconcreto.com \nShare this:\n				Email a link to a friend (Opens in new window)\n				Email\n			\n				Print (Opens in new window)\n				Print\n			\n				Share on Facebook (Opens in new window)\n				Facebook\n			\n				Share on LinkedIn (Opens in new window)\n				LinkedIn\n			\n				Share on X (Opens in new window)\n				X
URL:https://www.concretepavements.org/event/virtual-international-contest-for-civil-engineering-students-using-design-of-concrete-pavements-during-rc-2021/
CATEGORIES:Contest
ATTACH;FMTTYPE=image/jpeg:https://www.concretepavements.org/wp-content/uploads/2021/09/ContestStudents.jpg
ORGANIZER;CN="La C%C3%A1mara Colombiana del Cemento y el Concreto PROCEMCO (Colombian Chamber of Cement and Concrete PROCEMCO)":MAILTO:kmartin@procem.co
END:VEVENT
END:VCALENDAR