BEGIN:VCALENDAR
VERSION:2.0
PRODID:-//International Society for Concrete Pavements - ECPv6.15.20//NONSGML v1.0//EN
CALSCALE:GREGORIAN
METHOD:PUBLISH
X-WR-CALNAME:International Society for Concrete Pavements
X-ORIGINAL-URL:https://www.concretepavements.org
X-WR-CALDESC:Events for International Society for Concrete Pavements
REFRESH-INTERVAL;VALUE=DURATION:PT1H
X-Robots-Tag:noindex
X-PUBLISHED-TTL:PT1H
BEGIN:VTIMEZONE
TZID:America/New_York
BEGIN:DAYLIGHT
TZOFFSETFROM:-0500
TZOFFSETTO:-0400
TZNAME:EDT
DTSTART:20210314T070000
END:DAYLIGHT
BEGIN:STANDARD
TZOFFSETFROM:-0400
TZOFFSETTO:-0500
TZNAME:EST
DTSTART:20211107T060000
END:STANDARD
BEGIN:DAYLIGHT
TZOFFSETFROM:-0500
TZOFFSETTO:-0400
TZNAME:EDT
DTSTART:20220313T070000
END:DAYLIGHT
BEGIN:STANDARD
TZOFFSETFROM:-0400
TZOFFSETTO:-0500
TZNAME:EST
DTSTART:20221106T060000
END:STANDARD
BEGIN:DAYLIGHT
TZOFFSETFROM:-0500
TZOFFSETTO:-0400
TZNAME:EDT
DTSTART:20230312T070000
END:DAYLIGHT
BEGIN:STANDARD
TZOFFSETFROM:-0400
TZOFFSETTO:-0500
TZNAME:EST
DTSTART:20231105T060000
END:STANDARD
END:VTIMEZONE
BEGIN:VEVENT
DTSTART;TZID=America/New_York:20220327T080000
DTEND;TZID=America/New_York:20220330T210000
DTSTAMP:20260425T071708
CREATED:20220309T182408Z
LAST-MODIFIED:20220309T182520Z
UID:22344-1648368000-1648674000@www.concretepavements.org
SUMMARY:ACI Spring 2022 Concrete Convention\, Orlando\, FL; Early Bird & Virt. Reg.s by Mar. 25!
DESCRIPTION:ACI Spring 2022 Concrete Convention\nMarch 27 to March 30: SESSIONS & EVENTS\nwww.concrete.org/events/conventions/currentconvention/sessionsandevents.aspx \nMarch 26 to March 31: BOARD COMMITTEE MEETINGS:\nSaturday: 10:00 am – 8:30 pm thru  Thursday: 8:00 am – 12:00 pm (EST)\nwww.concrete.org/events/conventions/currentconvention/committeemeetingschedule.aspx\nEarly Bird In-Person & Virtual Registrations End March 25 \nShare this:\n				Email a link to a friend (Opens in new window)\n				Email\n			\n				Print (Opens in new window)\n				Print\n			\n				Share on Facebook (Opens in new window)\n				Facebook\n			\n				Share on LinkedIn (Opens in new window)\n				LinkedIn\n			\n				Share on X (Opens in new window)\n				X
URL:https://www.concretepavements.org/event/aci-spring-2022-concrete-convention-orlando-fl-reg-early-bird-virt-reg-s-by-mar-25/
LOCATION:Caribe Royale Orlando\, 8101 World Center Drive\, Orlando\, FL\, 32821\, United States
CATEGORIES:Convention
ATTACH;FMTTYPE=image/jpeg:https://www.concretepavements.org/wp-content/uploads/2022/03/ACI-FINALHOME.jpg
END:VEVENT
END:VCALENDAR