BEGIN:VCALENDAR
VERSION:2.0
PRODID:-//International Society for Concrete Pavements - ECPv6.15.20//NONSGML v1.0//EN
CALSCALE:GREGORIAN
METHOD:PUBLISH
X-WR-CALNAME:International Society for Concrete Pavements
X-ORIGINAL-URL:https://www.concretepavements.org
X-WR-CALDESC:Events for International Society for Concrete Pavements
REFRESH-INTERVAL;VALUE=DURATION:PT1H
X-Robots-Tag:noindex
X-PUBLISHED-TTL:PT1H
BEGIN:VTIMEZONE
TZID:America/New_York
BEGIN:DAYLIGHT
TZOFFSETFROM:-0500
TZOFFSETTO:-0400
TZNAME:EDT
DTSTART:20180311T070000
END:DAYLIGHT
BEGIN:STANDARD
TZOFFSETFROM:-0400
TZOFFSETTO:-0500
TZNAME:EST
DTSTART:20181104T060000
END:STANDARD
BEGIN:DAYLIGHT
TZOFFSETFROM:-0500
TZOFFSETTO:-0400
TZNAME:EDT
DTSTART:20190310T070000
END:DAYLIGHT
BEGIN:STANDARD
TZOFFSETFROM:-0400
TZOFFSETTO:-0500
TZNAME:EST
DTSTART:20191103T060000
END:STANDARD
BEGIN:DAYLIGHT
TZOFFSETFROM:-0500
TZOFFSETTO:-0400
TZNAME:EDT
DTSTART:20200308T070000
END:DAYLIGHT
BEGIN:STANDARD
TZOFFSETFROM:-0400
TZOFFSETTO:-0500
TZNAME:EST
DTSTART:20201101T060000
END:STANDARD
BEGIN:DAYLIGHT
TZOFFSETFROM:-0500
TZOFFSETTO:-0400
TZNAME:EDT
DTSTART:20210314T070000
END:DAYLIGHT
BEGIN:STANDARD
TZOFFSETFROM:-0400
TZOFFSETTO:-0500
TZNAME:EST
DTSTART:20211107T060000
END:STANDARD
BEGIN:DAYLIGHT
TZOFFSETFROM:-0500
TZOFFSETTO:-0400
TZNAME:EDT
DTSTART:20220313T070000
END:DAYLIGHT
BEGIN:STANDARD
TZOFFSETFROM:-0400
TZOFFSETTO:-0500
TZNAME:EST
DTSTART:20221106T060000
END:STANDARD
END:VTIMEZONE
BEGIN:VEVENT
DTSTART;VALUE=DATE:20210219
DTEND;VALUE=DATE:20210220
DTSTAMP:20260423T120420
CREATED:20210128T051350Z
LAST-MODIFIED:20210128T051350Z
UID:17352-1613692800-1613779199@www.concretepavements.org
SUMMARY:Deadline for Nominations for ISCP Board Positions
DESCRIPTION:ARTICLE: “ISCP Accepting Nominations for Board Positions”: www.concretepavements.org/2021/01/27/iscp-accepting-nominations-for-board-positions/ \nShare this:\n				Email a link to a friend (Opens in new window)\n				Email\n			\n				Print (Opens in new window)\n				Print\n			\n				Share on Facebook (Opens in new window)\n				Facebook\n			\n				Share on LinkedIn (Opens in new window)\n				LinkedIn\n			\n				Share on X (Opens in new window)\n				X
URL:https://www.concretepavements.org/event/deadline-for-nominations-for-iscp-board-positions/
CATEGORIES:Deadline,ISCP Events,Nomination Deadline
ATTACH;FMTTYPE=image/jpeg:https://www.concretepavements.org/wp-content/uploads/2021/01/ISCPBoardNominations4final.jpg
END:VEVENT
BEGIN:VEVENT
DTSTART;VALUE=DATE:20210214
DTEND;VALUE=DATE:20210215
DTSTAMP:20260423T120420
CREATED:20210128T052535Z
LAST-MODIFIED:20210128T052535Z
UID:17356-1613260800-1613347199@www.concretepavements.org
SUMMARY:DEADLINE for Expressions of Interest (EOIs): ASCP Executive Secretary Part-Time Role
DESCRIPTION:For further information\, please contact:\nJustin Moss\, President-ASCP: E-mail: justin.moss@arcadis.com\nISCP ARTICLE: “ASCP: 2021 Strategy; Seeking Executive Secretary; 2021 eConference”: www.concretepavements.org/2021/01/27/ascp-2021-strategy-seeking-executive-secretary-2021-econference/ \nShare this:\n				Email a link to a friend (Opens in new window)\n				Email\n			\n				Print (Opens in new window)\n				Print\n			\n				Share on Facebook (Opens in new window)\n				Facebook\n			\n				Share on LinkedIn (Opens in new window)\n				LinkedIn\n			\n				Share on X (Opens in new window)\n				X
URL:https://www.concretepavements.org/event/deadline-for-expressions-of-interest-eois-ascp-executive-secretary-part-time-role/
CATEGORIES:Deadline
ORGANIZER;CN="ASCP":MAILTO:exec@concretepavements.com.au
END:VEVENT
BEGIN:VEVENT
DTSTART;VALUE=DATE:20200501
DTEND;VALUE=DATE:20200502
DTSTAMP:20260423T120420
CREATED:20200324T064939Z
LAST-MODIFIED:20200324T065411Z
UID:14895-1588291200-1588377599@www.concretepavements.org
SUMMARY:NRRA "2020 Call for Innovation"—Seeking New Project Proposals
DESCRIPTION:TIMELINE—(Extended from original April-May timeline to May-June)\nMay 3 – June 5: The Executive Committee members and states review\, evaluate\, and rank proposals\nWeek of June 8: The Executive Committee meets to determine the final proposals to be funded\nWeek of June 15: Selected proposals announced digitally \n**In light of the COVID-19 situation\, with travel and gatherings restricted for all of us and no end date clear\, the NRRA Executive Committee announces important changes for the “Call for Innovation” and the “2020 Pavement Workshop”:\nPostponed: “Call for Innovation” proposals due May 1\, 2020 (originally due April 3)\nPostponed: “2020 Pavement Workshop” postponed to FALL—to be held in Shoreview\, Minnesota. As we move through the pandemic and gain understanding of how to move forward\, a new FALL 2020 date will be determined and announced. \nRegistration will close until a new date is set. If you have already registered for the workshop\, we will reach out to you with details on the refund process. \nShare this:\n				Email a link to a friend (Opens in new window)\n				Email\n			\n				Print (Opens in new window)\n				Print\n			\n				Share on Facebook (Opens in new window)\n				Facebook\n			\n				Share on LinkedIn (Opens in new window)\n				LinkedIn\n			\n				Share on X (Opens in new window)\n				X
URL:https://www.concretepavements.org/event/nrra-2020-call-for-innovation-seeking-new-project-proposals/
LOCATION:Online
CATEGORIES:Deadline
ORGANIZER;CN="NRRA":MAILTO:glenn.engstrom@state.mn.us
END:VEVENT
BEGIN:VEVENT
DTSTART;VALUE=DATE:20191115
DTEND;VALUE=DATE:20191116
DTSTAMP:20260423T120420
CREATED:20191029T150435Z
LAST-MODIFIED:20191029T151009Z
UID:12999-1573776000-1573862399@www.concretepavements.org
SUMMARY:Deadline! ISCP Nominations for Honorary Members
DESCRIPTION:ISCP Honorary Member article: https://www.concretepavements.org/2019/10/22/iscp-requesting-nominations-for-honorary-members-by-november-15-2019/ \nShare this:\n				Email a link to a friend (Opens in new window)\n				Email\n			\n				Print (Opens in new window)\n				Print\n			\n				Share on Facebook (Opens in new window)\n				Facebook\n			\n				Share on LinkedIn (Opens in new window)\n				LinkedIn\n			\n				Share on X (Opens in new window)\n				X
URL:https://www.concretepavements.org/event/deadline-iscp-nominations-for-honorary-members/
LOCATION:Online
CATEGORIES:Deadline,ISCP Events,ISCP Members' Events
END:VEVENT
BEGIN:VEVENT
DTSTART;VALUE=DATE:20191108
DTEND;VALUE=DATE:20191109
DTSTAMP:20260423T120420
CREATED:20191029T145654Z
LAST-MODIFIED:20191029T145654Z
UID:12996-1573171200-1573257599@www.concretepavements.org
SUMMARY:Deadline: ENR Magazine’s PHOTO CONTEST! “2019 Year in Construction”
DESCRIPTION:Share this:\n				Email a link to a friend (Opens in new window)\n				Email\n			\n				Print (Opens in new window)\n				Print\n			\n				Share on Facebook (Opens in new window)\n				Facebook\n			\n				Share on LinkedIn (Opens in new window)\n				LinkedIn\n			\n				Share on X (Opens in new window)\n				X
URL:https://www.concretepavements.org/event/deadline-enr-magazines-photo-contest-2019-year-in-construction/
LOCATION:Online
CATEGORIES:Awards,Deadline
END:VEVENT
BEGIN:VEVENT
DTSTART;VALUE=DATE:20190930
DTEND;VALUE=DATE:20191001
DTSTAMP:20260423T120420
CREATED:20190903T174400Z
LAST-MODIFIED:20190930T205455Z
UID:12523-1569801600-1569887999@www.concretepavements.org
SUMMARY:DEADLINE EXTENDED TO FRIDAY\, OCTOBER 25\, 2019!!! PAPERS DUE for the 12th ICCP to be Held in Minneapolis\, MN Aug 30-Sept 3\, 2020
DESCRIPTION:All authors and co-authors whose submitted abstracts were accepted\, please submit your PAPER by MONDAY\, OCTOBER 25\, 2019 (previously September 30\, 2019) to the technical committee of the 12th International Conference on Concrete Pavements (12th ICCP 2020)\, to be held August 30-September 3\, 2020 in Minneapolis\, Minnesota\, USA. Conference Brochure: https://www.concretepavements.org/wp-content/uploads/2019/09/1_LARGE11x17NEW9-30-19FINAL.pdf \nShare this:\n				Email a link to a friend (Opens in new window)\n				Email\n			\n				Print (Opens in new window)\n				Print\n			\n				Share on Facebook (Opens in new window)\n				Facebook\n			\n				Share on LinkedIn (Opens in new window)\n				LinkedIn\n			\n				Share on X (Opens in new window)\n				X
URL:https://www.concretepavements.org/event/papers-due-for-the-12th-iccp-to-be-held-in-minneapolis-mn-aug-30-sept-3-2020/
LOCATION:Online
CATEGORIES:Conferences,Deadline,ISCP Events
END:VEVENT
BEGIN:VEVENT
DTSTART;VALUE=DATE:20190712
DTEND;VALUE=DATE:20190713
DTSTAMP:20260423T120420
CREATED:20190530T182504Z
LAST-MODIFIED:20190530T183255Z
UID:11829-1562889600-1562975999@www.concretepavements.org
SUMMARY:DEADLINE: Submit Your Projects for Consideration for the ACPA “Excellence in Concrete Pavements Awards” by July 12th\, 2019
DESCRIPTION:ISCP May 2019 article on the 5th ASCP Conference: https://www.concretepavements.org/2019/05/29/submit-your-projects-for-consideration-for-the-acpa-excellence-in-concrete-pavements-awards-by-july-12th-2019/ \nShare this:\n				Email a link to a friend (Opens in new window)\n				Email\n			\n				Print (Opens in new window)\n				Print\n			\n				Share on Facebook (Opens in new window)\n				Facebook\n			\n				Share on LinkedIn (Opens in new window)\n				LinkedIn\n			\n				Share on X (Opens in new window)\n				X
URL:https://www.concretepavements.org/event/deadline-submit-your-projects-for-consideration-for-the-acpa-excellence-in-concrete-pavements-awards-by-july-12th-2019/
LOCATION:Online
CATEGORIES:Awards,Deadline
END:VEVENT
END:VCALENDAR