BEGIN:VCALENDAR
VERSION:2.0
PRODID:-//International Society for Concrete Pavements - ECPv6.15.20//NONSGML v1.0//EN
CALSCALE:GREGORIAN
METHOD:PUBLISH
X-ORIGINAL-URL:https://www.concretepavements.org
X-WR-CALDESC:Events for International Society for Concrete Pavements
REFRESH-INTERVAL;VALUE=DURATION:PT1H
X-Robots-Tag:noindex
X-PUBLISHED-TTL:PT1H
BEGIN:VTIMEZONE
TZID:America/New_York
BEGIN:DAYLIGHT
TZOFFSETFROM:-0500
TZOFFSETTO:-0400
TZNAME:EDT
DTSTART:20190310T070000
END:DAYLIGHT
BEGIN:STANDARD
TZOFFSETFROM:-0400
TZOFFSETTO:-0500
TZNAME:EST
DTSTART:20191103T060000
END:STANDARD
BEGIN:DAYLIGHT
TZOFFSETFROM:-0500
TZOFFSETTO:-0400
TZNAME:EDT
DTSTART:20200308T070000
END:DAYLIGHT
BEGIN:STANDARD
TZOFFSETFROM:-0400
TZOFFSETTO:-0500
TZNAME:EST
DTSTART:20201101T060000
END:STANDARD
BEGIN:DAYLIGHT
TZOFFSETFROM:-0500
TZOFFSETTO:-0400
TZNAME:EDT
DTSTART:20210314T070000
END:DAYLIGHT
BEGIN:STANDARD
TZOFFSETFROM:-0400
TZOFFSETTO:-0500
TZNAME:EST
DTSTART:20211107T060000
END:STANDARD
BEGIN:DAYLIGHT
TZOFFSETFROM:-0500
TZOFFSETTO:-0400
TZNAME:EDT
DTSTART:20220313T070000
END:DAYLIGHT
BEGIN:STANDARD
TZOFFSETFROM:-0400
TZOFFSETTO:-0500
TZNAME:EST
DTSTART:20221106T060000
END:STANDARD
BEGIN:DAYLIGHT
TZOFFSETFROM:-0500
TZOFFSETTO:-0400
TZNAME:EDT
DTSTART:20230312T070000
END:DAYLIGHT
BEGIN:STANDARD
TZOFFSETFROM:-0400
TZOFFSETTO:-0500
TZNAME:EST
DTSTART:20231105T060000
END:STANDARD
END:VTIMEZONE
BEGIN:VEVENT
DTSTART;TZID=America/New_York:20220125T163000
DTEND;TZID=America/New_York:20220125T180000
DTSTAMP:20260423T120421
CREATED:20211231T214810Z
LAST-MODIFIED:20211231T214810Z
UID:21251-1643128200-1643133600@www.concretepavements.org
SUMMARY:EUPAVE Online Debate: “Climate Resilience & Long-Term Transport Investment”
DESCRIPTION:PROGRAM:\nwww.eupave.eu/wp-content/uploads/Programme-EUPAVE-Event-Climate-resilience-and-long-term-transport-investment-25-January-2022.pdf \nShare this:\n				Email a link to a friend (Opens in new window)\n				Email\n			\n				Print (Opens in new window)\n				Print\n			\n				Share on Facebook (Opens in new window)\n				Facebook\n			\n				Share on LinkedIn (Opens in new window)\n				LinkedIn\n			\n				Share on X (Opens in new window)\n				X
URL:https://www.concretepavements.org/event/eupave-online-debate-climate-resilience-long-term-transport-investment/
CATEGORIES:Debate
ATTACH;FMTTYPE=image/jpeg:https://www.concretepavements.org/wp-content/uploads/2021/12/EUPAVEHOME.jpg
ORGANIZER;CN="EUPAVE":MAILTO:info@eupave.eu
END:VEVENT
BEGIN:VEVENT
DTSTART;TZID=America/New_York:20201209T100000
DTEND;TZID=America/New_York:20201209T113000
DTSTAMP:20260423T120421
CREATED:20201201T040223Z
LAST-MODIFIED:20201201T040223Z
UID:16893-1607508000-1607513400@www.concretepavements.org
SUMMARY:EUPAVE "Green Deal" DEBATE
DESCRIPTION:TIME:\nBELGIUM: 15:00 to 16:30 (GMT+1)\nNEW YORK: 10:00 am to 11:30 am (EST) \nTo REGISTER by Monday December 7\, 2020\, please contact:Ms Elise Carabédian | E-mail: e.carabedian@eupave.eu \nShare this:\n				Email a link to a friend (Opens in new window)\n				Email\n			\n				Print (Opens in new window)\n				Print\n			\n				Share on Facebook (Opens in new window)\n				Facebook\n			\n				Share on LinkedIn (Opens in new window)\n				LinkedIn\n			\n				Share on X (Opens in new window)\n				X
URL:https://www.concretepavements.org/event/eupave-green-deal-debate/
LOCATION:online
CATEGORIES:Debate,Live Webinars
ORGANIZER;CN="EUPAVE":MAILTO:info@eupave.eu
END:VEVENT
END:VCALENDAR