BEGIN:VCALENDAR
VERSION:2.0
PRODID:-//International Society for Concrete Pavements - ECPv6.15.20//NONSGML v1.0//EN
CALSCALE:GREGORIAN
METHOD:PUBLISH
X-ORIGINAL-URL:https://www.concretepavements.org
X-WR-CALDESC:Events for International Society for Concrete Pavements
REFRESH-INTERVAL;VALUE=DURATION:PT1H
X-Robots-Tag:noindex
X-PUBLISHED-TTL:PT1H
BEGIN:VTIMEZONE
TZID:America/New_York
BEGIN:DAYLIGHT
TZOFFSETFROM:-0500
TZOFFSETTO:-0400
TZNAME:EDT
DTSTART:20220313T070000
END:DAYLIGHT
BEGIN:STANDARD
TZOFFSETFROM:-0400
TZOFFSETTO:-0500
TZNAME:EST
DTSTART:20221106T060000
END:STANDARD
BEGIN:DAYLIGHT
TZOFFSETFROM:-0500
TZOFFSETTO:-0400
TZNAME:EDT
DTSTART:20230312T070000
END:DAYLIGHT
BEGIN:STANDARD
TZOFFSETFROM:-0400
TZOFFSETTO:-0500
TZNAME:EST
DTSTART:20231105T060000
END:STANDARD
BEGIN:DAYLIGHT
TZOFFSETFROM:-0500
TZOFFSETTO:-0400
TZNAME:EDT
DTSTART:20240310T070000
END:DAYLIGHT
BEGIN:STANDARD
TZOFFSETFROM:-0400
TZOFFSETTO:-0500
TZNAME:EST
DTSTART:20241103T060000
END:STANDARD
END:VTIMEZONE
BEGIN:VEVENT
DTSTART;TZID=America/New_York:20230625T080000
DTEND;TZID=America/New_York:20230628T170000
DTSTAMP:20260425T102502
CREATED:20201125T062309Z
LAST-MODIFIED:20231114T220601Z
UID:16809-1687680000-1687971600@www.concretepavements.org
SUMMARY:Abstract Submission Extended to April 10\, 2022! 14th International Symposium on Concrete Roads (14thISCR 2023) Postponed to June 25-29\, 2023!
DESCRIPTION:THE FINAL DEADLINE to submit your abstract is April 10\, 2022\nISCP article: “Abstract Submission EXTENDED to Apr. 10\, 2022! 14thISCR 2023\, Krakow\, Poland”: www.concretepavements.org/2022/02/19/abstract-submission-extended-to-apr-10-2022-14thiscr-2023-krakow-poland/ \nShare this:\n				Email a link to a friend (Opens in new window)\n				Email\n			\n				Print (Opens in new window)\n				Print\n			\n				Share on Facebook (Opens in new window)\n				Facebook\n			\n				Share on LinkedIn (Opens in new window)\n				LinkedIn\n			\n				Share on X (Opens in new window)\n				X
URL:https://www.concretepavements.org/event/14th-international-symposium-on-concrete-roads-2022/
LOCATION:DOUBLETREE BY HILTON KRAKOW HOTEL & CONVENTION CENTER\, ul. Dąbska 5\, Kraków\, 31-572\, Poland
CATEGORIES:Conferences,ISCP Events
ATTACH;FMTTYPE=image/jpeg:https://www.concretepavements.org/wp-content/uploads/2022/02/KrakowFORUM2022-HOME2.jpg
ORGANIZER;CN="Polish Cement Association":MAILTO:E.CARABEDIAN@EUPAvE.EU
END:VEVENT
END:VCALENDAR