BEGIN:VCALENDAR
VERSION:2.0
PRODID:-//International Society for Concrete Pavements - ECPv6.15.20//NONSGML v1.0//EN
CALSCALE:GREGORIAN
METHOD:PUBLISH
X-WR-CALNAME:International Society for Concrete Pavements
X-ORIGINAL-URL:https://www.concretepavements.org
X-WR-CALDESC:Events for International Society for Concrete Pavements
REFRESH-INTERVAL;VALUE=DURATION:PT1H
X-Robots-Tag:noindex
X-PUBLISHED-TTL:PT1H
BEGIN:VTIMEZONE
TZID:America/New_York
BEGIN:DAYLIGHT
TZOFFSETFROM:-0500
TZOFFSETTO:-0400
TZNAME:EDT
DTSTART:20150308T070000
END:DAYLIGHT
BEGIN:STANDARD
TZOFFSETFROM:-0400
TZOFFSETTO:-0500
TZNAME:EST
DTSTART:20151101T060000
END:STANDARD
BEGIN:DAYLIGHT
TZOFFSETFROM:-0500
TZOFFSETTO:-0400
TZNAME:EDT
DTSTART:20160313T070000
END:DAYLIGHT
BEGIN:STANDARD
TZOFFSETFROM:-0400
TZOFFSETTO:-0500
TZNAME:EST
DTSTART:20161106T060000
END:STANDARD
BEGIN:DAYLIGHT
TZOFFSETFROM:-0500
TZOFFSETTO:-0400
TZNAME:EDT
DTSTART:20170312T070000
END:DAYLIGHT
BEGIN:STANDARD
TZOFFSETFROM:-0400
TZOFFSETTO:-0500
TZNAME:EST
DTSTART:20171105T060000
END:STANDARD
BEGIN:DAYLIGHT
TZOFFSETFROM:-0500
TZOFFSETTO:-0400
TZNAME:EDT
DTSTART:20180311T070000
END:DAYLIGHT
BEGIN:STANDARD
TZOFFSETFROM:-0400
TZOFFSETTO:-0500
TZNAME:EST
DTSTART:20181104T060000
END:STANDARD
BEGIN:DAYLIGHT
TZOFFSETFROM:-0500
TZOFFSETTO:-0400
TZNAME:EDT
DTSTART:20190310T070000
END:DAYLIGHT
BEGIN:STANDARD
TZOFFSETFROM:-0400
TZOFFSETTO:-0500
TZNAME:EST
DTSTART:20191103T060000
END:STANDARD
BEGIN:DAYLIGHT
TZOFFSETFROM:-0500
TZOFFSETTO:-0400
TZNAME:EDT
DTSTART:20200308T070000
END:DAYLIGHT
BEGIN:STANDARD
TZOFFSETFROM:-0400
TZOFFSETTO:-0500
TZNAME:EST
DTSTART:20201101T060000
END:STANDARD
BEGIN:DAYLIGHT
TZOFFSETFROM:-0500
TZOFFSETTO:-0400
TZNAME:EDT
DTSTART:20210314T070000
END:DAYLIGHT
BEGIN:STANDARD
TZOFFSETFROM:-0400
TZOFFSETTO:-0500
TZNAME:EST
DTSTART:20211107T060000
END:STANDARD
BEGIN:DAYLIGHT
TZOFFSETFROM:-0500
TZOFFSETTO:-0400
TZNAME:EDT
DTSTART:20220313T070000
END:DAYLIGHT
BEGIN:STANDARD
TZOFFSETFROM:-0400
TZOFFSETTO:-0500
TZNAME:EST
DTSTART:20221106T060000
END:STANDARD
BEGIN:DAYLIGHT
TZOFFSETFROM:-0500
TZOFFSETTO:-0400
TZNAME:EDT
DTSTART:20230312T070000
END:DAYLIGHT
BEGIN:STANDARD
TZOFFSETFROM:-0400
TZOFFSETTO:-0500
TZNAME:EST
DTSTART:20231105T060000
END:STANDARD
END:VTIMEZONE
BEGIN:VTIMEZONE
TZID:America/Chicago
BEGIN:DAYLIGHT
TZOFFSETFROM:-0600
TZOFFSETTO:-0500
TZNAME:CDT
DTSTART:20150308T080000
END:DAYLIGHT
BEGIN:STANDARD
TZOFFSETFROM:-0500
TZOFFSETTO:-0600
TZNAME:CST
DTSTART:20151101T070000
END:STANDARD
BEGIN:DAYLIGHT
TZOFFSETFROM:-0600
TZOFFSETTO:-0500
TZNAME:CDT
DTSTART:20160313T080000
END:DAYLIGHT
BEGIN:STANDARD
TZOFFSETFROM:-0500
TZOFFSETTO:-0600
TZNAME:CST
DTSTART:20161106T070000
END:STANDARD
BEGIN:DAYLIGHT
TZOFFSETFROM:-0600
TZOFFSETTO:-0500
TZNAME:CDT
DTSTART:20170312T080000
END:DAYLIGHT
BEGIN:STANDARD
TZOFFSETFROM:-0500
TZOFFSETTO:-0600
TZNAME:CST
DTSTART:20171105T070000
END:STANDARD
END:VTIMEZONE
BEGIN:VEVENT
DTSTART;TZID=America/New_York:20220927T083000
DTEND;TZID=America/New_York:20220928T170000
DTSTAMP:20260423T120549
CREATED:20220303T203642Z
LAST-MODIFIED:20220526T041633Z
UID:22277-1664267400-1664384400@www.concretepavements.org
SUMMARY:CCT Seminar on Cement Stabilization & RCC: Sponsor! Agenda; Early Reg. by Aug. 15; Hotel Block Reg. thru Mon. Sept. 5
DESCRIPTION:REGISTRATION:\nEarly Registration – On or before August 15\, 2022\nLate Registration – After August 15\, 2022\n \nHOTEL:\nThere is a BLOCK OF ROOMS with a conference room rate of $124.00 per night. REGISTER NOW! DEADLINE for the room block is Monday\, September 5\, 2022. Rate is available for hotel stays from June 5\, 2022 through June 11\, 2022:\nhttps://www.cementx.org/cement-rcc-conf-hotel\nAND: www.marriott.com/event-reservations/reservation-link.mi?id=1625239966758&key=GRP&app=resvlink OR\nhttps://www.cementx.org/cement-rcc-conf-hotel \nShare this:\n				Email a link to a friend (Opens in new window)\n				Email\n			\n				Print (Opens in new window)\n				Print\n			\n				Share on Facebook (Opens in new window)\n				Facebook\n			\n				Share on LinkedIn (Opens in new window)\n				LinkedIn\n			\n				Share on X (Opens in new window)\n				X
URL:https://www.concretepavements.org/event/cct-seminar-on-cement-stabilization-early-reg-by-may-15-hotel-block-reg-by-may-6/
LOCATION:Sheraton Arlington Hotel Arlington\, 1500 Convention Center Drive\, Arlington\, Texas\, 76011\, United States
CATEGORIES:Exhibitions,Live Demonstrations,Seminars,Showcase,Sponsorships
ATTACH;FMTTYPE=image/jpeg:https://www.concretepavements.org/wp-content/uploads/2022/03/CCT-RCC-HOME.jpg
ORGANIZER;CN="The Cement Council of Texas (CCT)":MAILTO:(817) 919-5858
END:VEVENT
BEGIN:VEVENT
DTSTART;TZID=America/New_York:20220220T080000
DTEND;TZID=America/New_York:20220226T170000
DTSTAMP:20260423T120549
CREATED:20220128T234004Z
LAST-MODIFIED:20220323T031414Z
UID:21667-1645344000-1645894800@www.concretepavements.org
SUMMARY:U.S. “2022 Nat’l Engineers Week”: Engage Kids\, “Future City” Comp.\, Events\, Chats\, & more!
DESCRIPTION:Share this:\n				Email a link to a friend (Opens in new window)\n				Email\n			\n				Print (Opens in new window)\n				Print\n			\n				Share on Facebook (Opens in new window)\n				Facebook\n			\n				Share on LinkedIn (Opens in new window)\n				LinkedIn\n			\n				Share on X (Opens in new window)\n				X
URL:https://www.concretepavements.org/event/u-s-2022-natl-engineers-week-engage-kids-future-city-comp-events-chats-more/
CATEGORIES:Awards,Contest,Exhibitions,Lecture,Live Broadcast,Live Demonstrations,Live Webinars,Presentation,Tech Day,VIRTUAL Meeting
ATTACH;FMTTYPE=image/jpeg:https://www.concretepavements.org/wp-content/uploads/2022/01/EngineersWeek-HOME.jpg
ORGANIZER;CN="National Society of Professional Engineers (NSPE)":MAILTO:memserv@nspe.org
END:VEVENT
BEGIN:VEVENT
DTSTART;TZID=America/New_York:20210926T080000
DTEND;TZID=America/New_York:20210929T170000
DTSTAMP:20260423T120549
CREATED:20200831T170205Z
LAST-MODIFIED:20210715T125756Z
UID:16255-1632643200-1632934800@www.concretepavements.org
SUMMARY:SWIFT Conference & Trade Show (Equipment Year): Winnipeg September 26-29\, 2021
DESCRIPTION:SWIFT (Summer Winter Integrated Field Technologies) exists for the airport community to gather and learn about new pavement design\, construction\, evaluation and maintenance techniques\, materials\, chemicals\, systems and equipment available to keep airports safe and operational while addressing any challenges\, at minimal cost\, during all seasons. \n• Trade show offers up-front access to the latest airfield technologies.\n• Over 30 technical and operational sessions.\n• Network with Canadian\, US and international airport and government delegates \nREGISTRATION OPENING APRIL 21\, 2021:\nFor Exhibitions\, Demonstrations\, Registration\, and more information\, please go to:\nhttps://swiftconference.org/ \n  \nShare this:\n				Email a link to a friend (Opens in new window)\n				Email\n			\n				Print (Opens in new window)\n				Print\n			\n				Share on Facebook (Opens in new window)\n				Facebook\n			\n				Share on LinkedIn (Opens in new window)\n				LinkedIn\n			\n				Share on X (Opens in new window)\n				X
URL:https://www.concretepavements.org/event/swift-conference-trade-show-equipment-year-winnipeg-september-26-29-2021/
LOCATION:Delta Hotels by Marriott + Winnipeg Airport\, 2000 Wellington Ave\, Winnipeg\, Manitoba\, R3H 1C2\, Canada
CATEGORIES:Conferences,Exhibitions,Lectures,Live Demonstrations,Meetings
END:VEVENT
BEGIN:VEVENT
DTSTART;TZID=America/New_York:20210913T080000
DTEND;TZID=America/New_York:20210915T170000
DTSTAMP:20260423T120549
CREATED:20210513T190658Z
LAST-MODIFIED:20210729T180223Z
UID:18433-1631520000-1631725200@www.concretepavements.org
SUMMARY:P3C & Expo—Solve Critical Infrastructure Needs: In-Person Dallas\, TX\, Reg. by Aug. 6 for Discount
DESCRIPTION:The Public-Private Partnership Conference & Expo (P3C & Expo) will be in-person in Dallas\, Texas for the 2021 Conference\, September 13-15\, 2021! The theme of the 2021 P3 is “WHERE THE PUBLIC & PRIVATE SECTOR MEET”\nGeneral REGISTRATION starts Sat.\, Aug. 7\nISCP ARTICLE: www.concretepavements.org/2021/04/09/p3c-expo-will-unite-to-solve-critical-infrastructure-needs-sep-13-15-dallas-tx-early-bird-reg-by-fri-may-21/ \nShare this:\n				Email a link to a friend (Opens in new window)\n				Email\n			\n				Print (Opens in new window)\n				Print\n			\n				Share on Facebook (Opens in new window)\n				Facebook\n			\n				Share on LinkedIn (Opens in new window)\n				LinkedIn\n			\n				Share on X (Opens in new window)\n				X
URL:https://www.concretepavements.org/event/p3c-expo-will-unite-to-solve-critical-infrastructure-needs-dallas-tx-early-bird-reg-by-fri-may-21/
CATEGORIES:Conferences,Exhibitions,Lectures,Live Broadcast,Live Demonstrations,Live Webinars
ATTACH;FMTTYPE=image/jpeg:https://www.concretepavements.org/wp-content/uploads/2021/04/P3CLOGO.jpg
ORGANIZER;CN="P3 Summit":MAILTO:splombon@accessintel.com
END:VEVENT
BEGIN:VEVENT
DTSTART;TZID=America/New_York:20210328T080000
DTEND;TZID=America/New_York:20210401T170000
DTSTAMP:20260423T120549
CREATED:20210205T044328Z
LAST-MODIFIED:20210205T044328Z
UID:17467-1616918400-1617296400@www.concretepavements.org
SUMMARY:Virtual ACI 2021 Spring Convention
DESCRIPTION:Share this:\n				Email a link to a friend (Opens in new window)\n				Email\n			\n				Print (Opens in new window)\n				Print\n			\n				Share on Facebook (Opens in new window)\n				Facebook\n			\n				Share on LinkedIn (Opens in new window)\n				LinkedIn\n			\n				Share on X (Opens in new window)\n				X
URL:https://www.concretepavements.org/event/virtual-aci-2021-spring-convention/
CATEGORIES:Exhibitions,Live Broadcast,Live Demonstrations,Live Webinars,Meetings,Sponsorships,VIRTUAL Meeting
ATTACH;FMTTYPE=image/png:https://www.concretepavements.org/wp-content/uploads/2021/02/ACIVirtualConventionHOME.png
END:VEVENT
BEGIN:VEVENT
DTSTART;TZID=America/New_York:20200310T080000
DTEND;TZID=America/New_York:20200314T170000
DTSTAMP:20260423T120549
CREATED:20190720T044527Z
LAST-MODIFIED:20200229T060841Z
UID:12154-1583827200-1584205200@www.concretepavements.org
SUMMARY:CONEXPO-CON/AGG 2020 at the Las Vegas Convention Center & Surrounding Area—Speakers Include ISCP Officers & Members
DESCRIPTION:CONEXPO-CON/AGG is held every 3 years in Las Vegas\, Nevada\, USA\nShare this:\n				Email a link to a friend (Opens in new window)\n				Email\n			\n				Print (Opens in new window)\n				Print\n			\n				Share on Facebook (Opens in new window)\n				Facebook\n			\n				Share on LinkedIn (Opens in new window)\n				LinkedIn\n			\n				Share on X (Opens in new window)\n				X
URL:https://www.concretepavements.org/event/conexpo-con-agg-2020-at-the-las-vegas-convention-center-surrounding-area-speakers-include-iscp-officers-members/
LOCATION:Las Vegas Convention Center\, 3150 Paradise Road\, Las Vegas\, NV\, 89109\, United States
CATEGORIES:Exhibitions,Lectures,Live Demonstrations,Meetings,Presentation,Reception,Seminars,Showcase,Tech Day,Tours,Workshops
END:VEVENT
BEGIN:VEVENT
DTSTART;TZID=America/New_York:20200203T080000
DTEND;TZID=America/New_York:20200207T170000
DTSTAMP:20260423T120549
CREATED:20191024T200343Z
LAST-MODIFIED:20191024T200343Z
UID:12926-1580716800-1581094800@www.concretepavements.org
SUMMARY:"World of Concrete 2020"
DESCRIPTION:Share this:\n				Email a link to a friend (Opens in new window)\n				Email\n			\n				Print (Opens in new window)\n				Print\n			\n				Share on Facebook (Opens in new window)\n				Facebook\n			\n				Share on LinkedIn (Opens in new window)\n				LinkedIn\n			\n				Share on X (Opens in new window)\n				X
URL:https://www.concretepavements.org/event/world-of-concrete-2020/
LOCATION:Las Vegas Convention Center\, 3150 Paradise Road\, Las Vegas\, NV\, 89109\, United States
CATEGORIES:Conferences,Courses,Exhibitions,Live Demonstrations,Meetings,Seminars,Showcase,Sponsorships,Workshops
ORGANIZER;CN="World of Concrete":MAILTO:contactus@worldofconcrete.com
END:VEVENT
BEGIN:VEVENT
DTSTART;TZID=America/New_York:20190921T080000
DTEND;TZID=America/New_York:20190925T170000
DTSTAMP:20260423T120549
CREATED:20190819T192627Z
LAST-MODIFIED:20190819T192627Z
UID:12402-1569052800-1569430800@www.concretepavements.org
SUMMARY:“AREMA Annual Conference” in Conjunction with “Railway Interchange 2019” to be Held in Minneapolis\, Mn—RCC Pavement Council Exhibitor
DESCRIPTION:Share this:\n				Email a link to a friend (Opens in new window)\n				Email\n			\n				Print (Opens in new window)\n				Print\n			\n				Share on Facebook (Opens in new window)\n				Facebook\n			\n				Share on LinkedIn (Opens in new window)\n				LinkedIn\n			\n				Share on X (Opens in new window)\n				X
URL:https://www.concretepavements.org/event/arema-annual-conference-in-conjunction-with-railway-interchange-2019-to-be-held-in-minneapolis-mn-rcc-pavement-council-exhibitor/
LOCATION:Minneapolis Convention Center\, 1301 Second Avenue South\, Minneapolis\, MN\, 55403\, United States
CATEGORIES:Conferences,Exhibitions,Forum,Live Demonstrations,Meetings,Showcase,Sponsorships,Tours,Workshops
ORGANIZER;CN="American Railway Engineering and Maintenance-of-Way Association (AREMA)":MAILTO:info@arema.org
END:VEVENT
BEGIN:VEVENT
DTSTART;TZID=America/New_York:20190122T093000
DTEND;TZID=America/New_York:20190125T120000
DTSTAMP:20260423T120549
CREATED:20181006T014014Z
LAST-MODIFIED:20181006T013656Z
UID:10324-1548149400-1548417600@www.concretepavements.org
SUMMARY:World of Concrete 2019 “We Don’t Stop”
DESCRIPTION:ABOUT WORLD OF CONCRETE: \nWOC was introduced to the commercial construction industry in Houston\, Texas in 1975\, and boasts more\nthan 1\,500 exhibiting companies and 58\,000 registered industry professionals in more than 745\,000 net\nsquare feet of exhibit space. \nShare this:\n				Email a link to a friend (Opens in new window)\n				Email\n			\n				Print (Opens in new window)\n				Print\n			\n				Share on Facebook (Opens in new window)\n				Facebook\n			\n				Share on LinkedIn (Opens in new window)\n				LinkedIn\n			\n				Share on X (Opens in new window)\n				X
URL:https://www.concretepavements.org/event/world-of-concrete-2019-we-dont-stop/
LOCATION:Las Vegas Convention Center\, 3150 Paradise Road\, Las Vegas\, NV\, 89109\, United States
CATEGORIES:Exhibitions,Forum,Lectures,Live Demonstrations,Meetings,Presentation,Reception,Showcase,Tours,Workshops
ORGANIZER;CN="WOC":MAILTO:registration@worldofconcrete.com
END:VEVENT
BEGIN:VEVENT
DTSTART;TZID=America/New_York:20190113T080000
DTEND;TZID=America/New_York:20190117T170000
DTSTAMP:20260423T120549
CREATED:20181005T235808Z
LAST-MODIFIED:20181005T235628Z
UID:10322-1547366400-1547744400@www.concretepavements.org
SUMMARY:98th TRB Annual Meeting … New “TRB Live! Theater”
DESCRIPTION:Transportation Research Board (TRB) Maximize visibility with a patron\, sponsorship\, presentation\, or advertising opportunity at the 98th TRB Annual Meeting. With promotional opportunities at all levels of investment\, organizations and companies can leverage the 2019 meeting to reach leaders and professionals looking to fulfill their current transportation needs with your innovative solutions. For the ISCP article titled “98th TRB Annual Meeting to be Held January 13-17\, 2019 … New “TRB Live! Theater””\, please go to: https://www.concretepavements.org/2018/09/11/98th-trb-annual-meeting-to-be-held-january-13-17-2019-new-trb-live-theater/ \nShare this:\n				Email a link to a friend (Opens in new window)\n				Email\n			\n				Print (Opens in new window)\n				Print\n			\n				Share on Facebook (Opens in new window)\n				Facebook\n			\n				Share on LinkedIn (Opens in new window)\n				LinkedIn\n			\n				Share on X (Opens in new window)\n				X
URL:https://www.concretepavements.org/event/98th-trb-annual-meeting-new-trb-live-theater/
LOCATION:Walter E. Washington Convention Center\, 801 Mt Vernon Pl NW\, Washington\, DC\, 20001\, United States
CATEGORIES:Conferences,Courses,Exhibitions,Forum,Lectures,Live Demonstrations,Meetings,Reception,Seminars,Showcase,Workshops
END:VEVENT
BEGIN:VEVENT
DTSTART;TZID=America/New_York:20180123T080000
DTEND;TZID=America/New_York:20180126T170000
DTSTAMP:20260423T120549
CREATED:20171030T034556Z
LAST-MODIFIED:20171030T033531Z
UID:9004-1516694400-1516986000@www.concretepavements.org
SUMMARY:World of Concrete 2018
DESCRIPTION:Share this:\n				Email a link to a friend (Opens in new window)\n				Email\n			\n				Print (Opens in new window)\n				Print\n			\n				Share on Facebook (Opens in new window)\n				Facebook\n			\n				Share on LinkedIn (Opens in new window)\n				LinkedIn\n			\n				Share on X (Opens in new window)\n				X
URL:https://www.concretepavements.org/event/world-of-concrete-2018/
LOCATION:Las Vegas Convention Center\, 3150 Paradise Road\, Las Vegas\, NV\, 89109\, United States
CATEGORIES:Exhibitions,Live Demonstrations,Meetings,Seminars,Tours,Workshops
ORGANIZER;CN="World of Concrete":MAILTO:contactus@worldofconcrete.com
END:VEVENT
BEGIN:VEVENT
DTSTART;TZID=America/New_York:20160425T130000
DTEND;TZID=America/New_York:20160425T200000
DTSTAMP:20260423T120549
CREATED:20160225T182502Z
LAST-MODIFIED:20160225T181733Z
UID:4669-1461589200-1461614400@www.concretepavements.org
SUMMARY:ISCP is Co-Sponsoring 125th Anniversary Commemoration of the 1st U.S. Concrete Pavement\, to be Held April 25th
DESCRIPTION:For the ISCP article on this event\, please go to:\nhttps://www.concretepavements.org/2016/02/25/iscp-to-co-sponsor-commemoration-125th-anniversary-of-the-1st-u-s-concrete-pavement-to-be-held-april-25th/. \n  \nShare this:\n				Email a link to a friend (Opens in new window)\n				Email\n			\n				Print (Opens in new window)\n				Print\n			\n				Share on Facebook (Opens in new window)\n				Facebook\n			\n				Share on LinkedIn (Opens in new window)\n				LinkedIn\n			\n				Share on X (Opens in new window)\n				X
URL:https://www.concretepavements.org/event/iscp-is-co-sponsoring-125th-anniversary-commemoration-of-the-1st-u-s-concrete-pavement-to-be-held-april-25th/
LOCATION:yatt Regency Columbus Hotel.\, 350 North High Street\, Columbus\, Ohio\, United States
CATEGORIES:ISCP Sponsored Events,Live Demonstrations
ORGANIZER;CN="Task Force on Preservation of Artifacts from Historical Concrete Pavements":MAILTO:stayabji@gmail.com
END:VEVENT
BEGIN:VEVENT
DTSTART;TZID=America/Chicago:20160201T080000
DTEND;TZID=America/Chicago:20160205T170000
DTSTAMP:20260423T120549
CREATED:20151130T185945Z
LAST-MODIFIED:20151130T185945Z
UID:4170-1454313600-1454691600@www.concretepavements.org
SUMMARY:World of Concrete 2016
DESCRIPTION:Share this:\n				Email a link to a friend (Opens in new window)\n				Email\n			\n				Print (Opens in new window)\n				Print\n			\n				Share on Facebook (Opens in new window)\n				Facebook\n			\n				Share on LinkedIn (Opens in new window)\n				LinkedIn\n			\n				Share on X (Opens in new window)\n				X
URL:https://www.concretepavements.org/event/world-of-concrete-2016/
LOCATION:Las Vegas Convention Center\, 3150 Paradise Road\, Las Vegas\, NV\, 89109\, United States
CATEGORIES:Conferences,Exhibitions,Live Demonstrations,Meetings,Workshops
ORGANIZER;CN="World of Concrete":MAILTO:contactus@worldofconcrete.com
END:VEVENT
END:VCALENDAR