BEGIN:VCALENDAR
VERSION:2.0
PRODID:-//International Society for Concrete Pavements - ECPv6.15.20//NONSGML v1.0//EN
CALSCALE:GREGORIAN
METHOD:PUBLISH
X-ORIGINAL-URL:https://www.concretepavements.org
X-WR-CALDESC:Events for International Society for Concrete Pavements
REFRESH-INTERVAL;VALUE=DURATION:PT1H
X-Robots-Tag:noindex
X-PUBLISHED-TTL:PT1H
BEGIN:VTIMEZONE
TZID:America/New_York
BEGIN:DAYLIGHT
TZOFFSETFROM:-0500
TZOFFSETTO:-0400
TZNAME:EDT
DTSTART:20140309T070000
END:DAYLIGHT
BEGIN:STANDARD
TZOFFSETFROM:-0400
TZOFFSETTO:-0500
TZNAME:EST
DTSTART:20141102T060000
END:STANDARD
BEGIN:DAYLIGHT
TZOFFSETFROM:-0500
TZOFFSETTO:-0400
TZNAME:EDT
DTSTART:20150308T070000
END:DAYLIGHT
BEGIN:STANDARD
TZOFFSETFROM:-0400
TZOFFSETTO:-0500
TZNAME:EST
DTSTART:20151101T060000
END:STANDARD
BEGIN:DAYLIGHT
TZOFFSETFROM:-0500
TZOFFSETTO:-0400
TZNAME:EDT
DTSTART:20160313T070000
END:DAYLIGHT
BEGIN:STANDARD
TZOFFSETFROM:-0400
TZOFFSETTO:-0500
TZNAME:EST
DTSTART:20161106T060000
END:STANDARD
END:VTIMEZONE
BEGIN:VEVENT
DTSTART;TZID=America/New_York:20150603T140000
DTEND;TZID=America/New_York:20150603T153000
DTSTAMP:20260423T143418
CREATED:20150528T164525Z
LAST-MODIFIED:20150528T163809Z
UID:2722-1433340000-1433345400@www.concretepavements.org
SUMMARY:TRB: Mechanistic-Empirical Design & Details for Continuously Reinforced Concrete Pavement (CRCP) [WEBINAR]
DESCRIPTION:Share this:\n				Email a link to a friend (Opens in new window)\n				Email\n			\n				Print (Opens in new window)\n				Print\n			\n				Share on Facebook (Opens in new window)\n				Facebook\n			\n				Share on LinkedIn (Opens in new window)\n				LinkedIn\n			\n				Share on X (Opens in new window)\n				X
URL:https://www.concretepavements.org/event/trb-mechanistic-empirical-design-details-for-continuously-reinforced-concrete-pavement-crcp-webinar/
LOCATION:Online
CATEGORIES:Live Webinars,Non-ISCP Events
END:VEVENT
BEGIN:VEVENT
DTSTART;VALUE=DATE:20150519
DTEND;VALUE=DATE:20150520
DTSTAMP:20260423T143418
CREATED:20150504T202312Z
LAST-MODIFIED:20150504T202312Z
UID:2515-1431993600-1432079999@www.concretepavements.org
SUMMARY:Gaining a Better Understanding of  FAA and Military Airport Pavement Specifications [Webinar]
DESCRIPTION:PRESENTER: Gary Mitchell\, P.E.\, ACPA’s Vice President of Airports & Technology \nLEARNING OBJECTIVES: Participants will have the opportunity to: Learn recommended best practices for constructing airport pavements using FAA and UFC specs. • Learn basic contrasts and comparisons between the FAA and UFC airport pavement specifications. • Identify\, understand\, and reconcile examples of misinterpretations\, contradictions\, or ambiguities commonly reported. • Learn about recent changes or revisions to both specifications. • Ask questions and provide comments about specific challenges or issues associated with one or both specifications. \nPDH Credits: ACPA will award 1.5 professional development hour (PDH) to those wishing to complete an optional “evidence of learning exam” following the webinar. \nShare this:\n				Email a link to a friend (Opens in new window)\n				Email\n			\n				Print (Opens in new window)\n				Print\n			\n				Share on Facebook (Opens in new window)\n				Facebook\n			\n				Share on LinkedIn (Opens in new window)\n				LinkedIn\n			\n				Share on X (Opens in new window)\n				X
URL:https://www.concretepavements.org/event/gaining-a-better-understanding-of-faa-and-military-airport-pavement-specifications-webinar/
LOCATION:Online
CATEGORIES:ISCP Members' Events,Live Webinars
END:VEVENT
BEGIN:VEVENT
DTSTART;VALUE=DATE:20150421
DTEND;VALUE=DATE:20150422
DTSTAMP:20260423T143418
CREATED:20150205T192757Z
LAST-MODIFIED:20150205T192757Z
UID:1742-1429574400-1429660799@www.concretepavements.org
SUMMARY:NRMCA - Roller Compacted Concrete: Another Choice for Pavement [Webinar]
DESCRIPTION:Share this:\n				Email a link to a friend (Opens in new window)\n				Email\n			\n				Print (Opens in new window)\n				Print\n			\n				Share on Facebook (Opens in new window)\n				Facebook\n			\n				Share on LinkedIn (Opens in new window)\n				LinkedIn\n			\n				Share on X (Opens in new window)\n				X
URL:https://www.concretepavements.org/event/nrmca-roller-compacted-concrete-another-choice-pavement-webinar-2/
LOCATION:Online
CATEGORIES:Live Webinars,Non-ISCP Events
END:VEVENT
BEGIN:VEVENT
DTSTART;VALUE=DATE:20150415
DTEND;VALUE=DATE:20150416
DTSTAMP:20260423T143418
CREATED:20150305T123817Z
LAST-MODIFIED:20150305T123817Z
UID:2079-1429056000-1429142399@www.concretepavements.org
SUMMARY:ASCE - Recycled Base Aggregates in Pavement Applications [Webinar]
DESCRIPTION:Share this:\n				Email a link to a friend (Opens in new window)\n				Email\n			\n				Print (Opens in new window)\n				Print\n			\n				Share on Facebook (Opens in new window)\n				Facebook\n			\n				Share on LinkedIn (Opens in new window)\n				LinkedIn\n			\n				Share on X (Opens in new window)\n				X
URL:https://www.concretepavements.org/event/asce-recycled-base-aggregates-in-pavement-applications-webinar/
LOCATION:Online
CATEGORIES:Live Webinars,Non-ISCP Events
END:VEVENT
BEGIN:VEVENT
DTSTART;VALUE=DATE:20150414
DTEND;VALUE=DATE:20150415
DTSTAMP:20260423T143418
CREATED:20150205T193341Z
LAST-MODIFIED:20150205T193341Z
UID:1746-1428969600-1429055999@www.concretepavements.org
SUMMARY:NRMCA - Designing and Specifying Pervious Concrete: Part 2 [Webinar]
DESCRIPTION:Share this:\n				Email a link to a friend (Opens in new window)\n				Email\n			\n				Print (Opens in new window)\n				Print\n			\n				Share on Facebook (Opens in new window)\n				Facebook\n			\n				Share on LinkedIn (Opens in new window)\n				LinkedIn\n			\n				Share on X (Opens in new window)\n				X
URL:https://www.concretepavements.org/event/nrmca-designing-specifying-pervious-concrete-part-2-webinar-2/
LOCATION:Online
CATEGORIES:Live Webinars,Non-ISCP Events
END:VEVENT
BEGIN:VEVENT
DTSTART;VALUE=DATE:20150407
DTEND;VALUE=DATE:20150408
DTSTAMP:20260423T143418
CREATED:20150205T193152Z
LAST-MODIFIED:20150205T193152Z
UID:1744-1428364800-1428451199@www.concretepavements.org
SUMMARY:NRMCA - Designing and Specifying Pervious Concrete: Part 1 [Webinar]
DESCRIPTION:Share this:\n				Email a link to a friend (Opens in new window)\n				Email\n			\n				Print (Opens in new window)\n				Print\n			\n				Share on Facebook (Opens in new window)\n				Facebook\n			\n				Share on LinkedIn (Opens in new window)\n				LinkedIn\n			\n				Share on X (Opens in new window)\n				X
URL:https://www.concretepavements.org/event/nrmca-designing-specifying-pervious-concrete-part-1-webinar-2/
LOCATION:Online
CATEGORIES:Live Webinars,Non-ISCP Events
END:VEVENT
BEGIN:VEVENT
DTSTART;VALUE=DATE:20150407
DTEND;VALUE=DATE:20150408
DTSTAMP:20260423T143418
CREATED:20150205T182146Z
LAST-MODIFIED:20150205T182146Z
UID:1725-1428364800-1428451199@www.concretepavements.org
SUMMARY:NRMCA - Introduction to Concrete Pavement Analyst (CPA) Software [Webinar]
DESCRIPTION:Share this:\n				Email a link to a friend (Opens in new window)\n				Email\n			\n				Print (Opens in new window)\n				Print\n			\n				Share on Facebook (Opens in new window)\n				Facebook\n			\n				Share on LinkedIn (Opens in new window)\n				LinkedIn\n			\n				Share on X (Opens in new window)\n				X
URL:https://www.concretepavements.org/event/nrmca-introduction-concrete-pavement-analyst-cpa-software-webinar-2/
LOCATION:Online
CATEGORIES:Live Webinars,Non-ISCP Events
END:VEVENT
BEGIN:VEVENT
DTSTART;VALUE=DATE:20150331
DTEND;VALUE=DATE:20150401
DTSTAMP:20260423T143418
CREATED:20150205T174807Z
LAST-MODIFIED:20150205T175134Z
UID:1712-1427760000-1427846399@www.concretepavements.org
SUMMARY:ACPA & ICPI - Strategies for Using Cast-In-Place/Pervious and Interlocking/Permeable Concrete [Webinar]
DESCRIPTION:Share this:\n				Email a link to a friend (Opens in new window)\n				Email\n			\n				Print (Opens in new window)\n				Print\n			\n				Share on Facebook (Opens in new window)\n				Facebook\n			\n				Share on LinkedIn (Opens in new window)\n				LinkedIn\n			\n				Share on X (Opens in new window)\n				X
URL:https://www.concretepavements.org/event/acpa-icpi-strategies-using-cast-placepervious-interlockingpermeable-concrete-online/
LOCATION:Online
CATEGORIES:ISCP Members' Events,Live Webinars
END:VEVENT
BEGIN:VEVENT
DTSTART;VALUE=DATE:20150330
DTEND;VALUE=DATE:20150331
DTSTAMP:20260423T143418
CREATED:20150305T132012Z
LAST-MODIFIED:20150305T132012Z
UID:2083-1427673600-1427759999@www.concretepavements.org
SUMMARY:TRB - Considerations for the Selection of Continuously Reinforced Concrete Pavement (CRCP) for Projects [Webinar]
DESCRIPTION:Share this:\n				Email a link to a friend (Opens in new window)\n				Email\n			\n				Print (Opens in new window)\n				Print\n			\n				Share on Facebook (Opens in new window)\n				Facebook\n			\n				Share on LinkedIn (Opens in new window)\n				LinkedIn\n			\n				Share on X (Opens in new window)\n				X
URL:https://www.concretepavements.org/event/trb-considerations-for-the-selection-of-continuously-reinforced-concrete-pavement-crcp-for-projects-webinar/
LOCATION:Online
CATEGORIES:Live Webinars,Non-ISCP Events
END:VEVENT
BEGIN:VEVENT
DTSTART;VALUE=DATE:20150326
DTEND;VALUE=DATE:20150327
DTSTAMP:20260423T143418
CREATED:20150205T175609Z
LAST-MODIFIED:20150205T175609Z
UID:1716-1427328000-1427414399@www.concretepavements.org
SUMMARY:ACPA\, CP Tech Center\, & FHWA - Maintenance of Traffic During Overlay Construction [Webinar]
DESCRIPTION:Share this:\n				Email a link to a friend (Opens in new window)\n				Email\n			\n				Print (Opens in new window)\n				Print\n			\n				Share on Facebook (Opens in new window)\n				Facebook\n			\n				Share on LinkedIn (Opens in new window)\n				LinkedIn\n			\n				Share on X (Opens in new window)\n				X
URL:https://www.concretepavements.org/event/acpa-cp-tech-center-fhwa-maintenance-traffic-overlay-construction-webinar/
LOCATION:Online
CATEGORIES:ISCP Members' Events,Live Webinars
END:VEVENT
BEGIN:VEVENT
DTSTART;VALUE=DATE:20150323
DTEND;VALUE=DATE:20150324
DTSTAMP:20260423T143418
CREATED:20150205T194103Z
LAST-MODIFIED:20150205T194103Z
UID:1752-1427068800-1427155199@www.concretepavements.org
SUMMARY:NRMCA - Streets & Roads Elected-Official Advocacy [Webinar]
DESCRIPTION:Share this:\n				Email a link to a friend (Opens in new window)\n				Email\n			\n				Print (Opens in new window)\n				Print\n			\n				Share on Facebook (Opens in new window)\n				Facebook\n			\n				Share on LinkedIn (Opens in new window)\n				LinkedIn\n			\n				Share on X (Opens in new window)\n				X
URL:https://www.concretepavements.org/event/nrmca-streets-roads-elected-official-advocacy-webinar/
LOCATION:Online
CATEGORIES:Live Webinars,Non-ISCP Events
END:VEVENT
BEGIN:VEVENT
DTSTART;VALUE=DATE:20150313
DTEND;VALUE=DATE:20150314
DTSTAMP:20260423T143418
CREATED:20150205T193943Z
LAST-MODIFIED:20150205T193943Z
UID:1751-1426204800-1426291199@www.concretepavements.org
SUMMARY:NRMCA - Winning Initial Streets & Roads Projects in Counties & Municipalities [Webinar]
DESCRIPTION:Share this:\n				Email a link to a friend (Opens in new window)\n				Email\n			\n				Print (Opens in new window)\n				Print\n			\n				Share on Facebook (Opens in new window)\n				Facebook\n			\n				Share on LinkedIn (Opens in new window)\n				LinkedIn\n			\n				Share on X (Opens in new window)\n				X
URL:https://www.concretepavements.org/event/nrmca-winning-initial-streets-roads-projects-counties-municipalities-webinar/
LOCATION:Online
CATEGORIES:Live Webinars,Non-ISCP Events
END:VEVENT
BEGIN:VEVENT
DTSTART;VALUE=DATE:20150311
DTEND;VALUE=DATE:20150312
DTSTAMP:20260423T143418
CREATED:20150205T193736Z
LAST-MODIFIED:20150205T193736Z
UID:1749-1426032000-1426118399@www.concretepavements.org
SUMMARY:NRMCA - Streets & Roads Promotion for DOTs\, Counties & Municipalities [Webinar]
DESCRIPTION:Share this:\n				Email a link to a friend (Opens in new window)\n				Email\n			\n				Print (Opens in new window)\n				Print\n			\n				Share on Facebook (Opens in new window)\n				Facebook\n			\n				Share on LinkedIn (Opens in new window)\n				LinkedIn\n			\n				Share on X (Opens in new window)\n				X
URL:https://www.concretepavements.org/event/nrmca-streets-roads-promotion-dots-counties-municipalities-webinar/
LOCATION:Online
CATEGORIES:Live Webinars,Non-ISCP Events
END:VEVENT
BEGIN:VEVENT
DTSTART;VALUE=DATE:20150310
DTEND;VALUE=DATE:20150311
DTSTAMP:20260423T143418
CREATED:20150205T192654Z
LAST-MODIFIED:20150205T192654Z
UID:1739-1425945600-1426031999@www.concretepavements.org
SUMMARY:NRMCA - Roller Compacted Concrete: Another Choice for Pavement [Webinar]
DESCRIPTION:Share this:\n				Email a link to a friend (Opens in new window)\n				Email\n			\n				Print (Opens in new window)\n				Print\n			\n				Share on Facebook (Opens in new window)\n				Facebook\n			\n				Share on LinkedIn (Opens in new window)\n				LinkedIn\n			\n				Share on X (Opens in new window)\n				X
URL:https://www.concretepavements.org/event/nrmca-roller-compacted-concrete-another-choice-pavement-webinar/
LOCATION:Online
CATEGORIES:Live Webinars,Non-ISCP Events
END:VEVENT
BEGIN:VEVENT
DTSTART;VALUE=DATE:20150309
DTEND;VALUE=DATE:20150310
DTSTAMP:20260423T143418
CREATED:20150205T193523Z
LAST-MODIFIED:20150205T193523Z
UID:1747-1425859200-1425945599@www.concretepavements.org
SUMMARY:NRMCA - Streets & Roads Team Building & Situation Analysis [Webinar]
DESCRIPTION:Share this:\n				Email a link to a friend (Opens in new window)\n				Email\n			\n				Print (Opens in new window)\n				Print\n			\n				Share on Facebook (Opens in new window)\n				Facebook\n			\n				Share on LinkedIn (Opens in new window)\n				LinkedIn\n			\n				Share on X (Opens in new window)\n				X
URL:https://www.concretepavements.org/event/nrmca-streets-roads-team-building-situation-analysis-webinar/
LOCATION:Online
CATEGORIES:Live Webinars,Non-ISCP Events
END:VEVENT
BEGIN:VEVENT
DTSTART;VALUE=DATE:20150309
DTEND;VALUE=DATE:20150310
DTSTAMP:20260423T143418
CREATED:20150205T020040Z
LAST-MODIFIED:20150205T175124Z
UID:1700-1425859200-1425945599@www.concretepavements.org
SUMMARY:ASCE - Emerging Technologies for Airport Pavements [Webinar]
DESCRIPTION:Share this:\n				Email a link to a friend (Opens in new window)\n				Email\n			\n				Print (Opens in new window)\n				Print\n			\n				Share on Facebook (Opens in new window)\n				Facebook\n			\n				Share on LinkedIn (Opens in new window)\n				LinkedIn\n			\n				Share on X (Opens in new window)\n				X
URL:https://www.concretepavements.org/event/emerging-technologies-airport-pavements/
LOCATION:Online
CATEGORIES:Live Webinars,Non-ISCP Events
END:VEVENT
BEGIN:VEVENT
DTSTART;VALUE=DATE:20150305
DTEND;VALUE=DATE:20150306
DTSTAMP:20260423T143418
CREATED:20150205T175450Z
LAST-MODIFIED:20150205T175450Z
UID:1715-1425513600-1425599999@www.concretepavements.org
SUMMARY:ACPA\, CP Tech Center\, & FHWA - Overlay Design Details/Joints [Webinar]
DESCRIPTION:Share this:\n				Email a link to a friend (Opens in new window)\n				Email\n			\n				Print (Opens in new window)\n				Print\n			\n				Share on Facebook (Opens in new window)\n				Facebook\n			\n				Share on LinkedIn (Opens in new window)\n				LinkedIn\n			\n				Share on X (Opens in new window)\n				X
URL:https://www.concretepavements.org/event/acpa-cp-tech-center-fhwa-overlay-design-detailsjoints-webinar/
LOCATION:Online
CATEGORIES:ISCP Members' Events,Live Webinars
END:VEVENT
BEGIN:VEVENT
DTSTART;VALUE=DATE:20150226
DTEND;VALUE=DATE:20150227
DTSTAMP:20260423T143418
CREATED:20150205T175328Z
LAST-MODIFIED:20150205T175328Z
UID:1714-1424908800-1424995199@www.concretepavements.org
SUMMARY:ACPA\, CP Tech Center\, & FHWA - Overlay Materials [Webinar]
DESCRIPTION:Share this:\n				Email a link to a friend (Opens in new window)\n				Email\n			\n				Print (Opens in new window)\n				Print\n			\n				Share on Facebook (Opens in new window)\n				Facebook\n			\n				Share on LinkedIn (Opens in new window)\n				LinkedIn\n			\n				Share on X (Opens in new window)\n				X
URL:https://www.concretepavements.org/event/acpa-cp-tech-center-fhwa-overlay-materials-webinar/
LOCATION:Online
CATEGORIES:ISCP Members' Events,Live Webinars
END:VEVENT
BEGIN:VEVENT
DTSTART;VALUE=DATE:20150225
DTEND;VALUE=DATE:20150226
DTSTAMP:20260423T143418
CREATED:20150210T142232Z
LAST-MODIFIED:20150210T142232Z
UID:1866-1424822400-1424908799@www.concretepavements.org
SUMMARY:ICPI - PICP design using Permeable Design Pro [Webinar]
DESCRIPTION:Share this:\n				Email a link to a friend (Opens in new window)\n				Email\n			\n				Print (Opens in new window)\n				Print\n			\n				Share on Facebook (Opens in new window)\n				Facebook\n			\n				Share on LinkedIn (Opens in new window)\n				LinkedIn\n			\n				Share on X (Opens in new window)\n				X
URL:https://www.concretepavements.org/event/icpi-picp-design-using-permeable-design-pro-webinar/
LOCATION:Online
CATEGORIES:Live Webinars,Non-ISCP Events
END:VEVENT
BEGIN:VEVENT
DTSTART;VALUE=DATE:20150217
DTEND;VALUE=DATE:20150218
DTSTAMP:20260423T143418
CREATED:20150205T193248Z
LAST-MODIFIED:20150205T193248Z
UID:1745-1424131200-1424217599@www.concretepavements.org
SUMMARY:NRMCA - Designing and Specifying Pervious Concrete: Part 2 [Webinar]
DESCRIPTION:Share this:\n				Email a link to a friend (Opens in new window)\n				Email\n			\n				Print (Opens in new window)\n				Print\n			\n				Share on Facebook (Opens in new window)\n				Facebook\n			\n				Share on LinkedIn (Opens in new window)\n				LinkedIn\n			\n				Share on X (Opens in new window)\n				X
URL:https://www.concretepavements.org/event/nrmca-designing-specifying-pervious-concrete-part-2-webinar/
LOCATION:Online
CATEGORIES:Live Webinars,Non-ISCP Events
END:VEVENT
BEGIN:VEVENT
DTSTART;VALUE=DATE:20150210
DTEND;VALUE=DATE:20150211
DTSTAMP:20260423T143418
CREATED:20150205T193047Z
LAST-MODIFIED:20150205T193047Z
UID:1743-1423526400-1423612799@www.concretepavements.org
SUMMARY:NRMCA - Designing and Specifying Pervious Concrete: Part 1 [Webinar]
DESCRIPTION:Share this:\n				Email a link to a friend (Opens in new window)\n				Email\n			\n				Print (Opens in new window)\n				Print\n			\n				Share on Facebook (Opens in new window)\n				Facebook\n			\n				Share on LinkedIn (Opens in new window)\n				LinkedIn\n			\n				Share on X (Opens in new window)\n				X
URL:https://www.concretepavements.org/event/nrmca-designing-specifying-pervious-concrete-part-1-webinar/
LOCATION:Online
CATEGORIES:Live Webinars,Non-ISCP Events
END:VEVENT
BEGIN:VEVENT
DTSTART;VALUE=DATE:20150210
DTEND;VALUE=DATE:20150211
DTSTAMP:20260423T143418
CREATED:20150205T182009Z
LAST-MODIFIED:20150205T182034Z
UID:1723-1423526400-1423612799@www.concretepavements.org
SUMMARY:NRMCA - Introduction to Concrete Pavement Analyst (CPA) Software [Webinar]
DESCRIPTION:Share this:\n				Email a link to a friend (Opens in new window)\n				Email\n			\n				Print (Opens in new window)\n				Print\n			\n				Share on Facebook (Opens in new window)\n				Facebook\n			\n				Share on LinkedIn (Opens in new window)\n				LinkedIn\n			\n				Share on X (Opens in new window)\n				X
URL:https://www.concretepavements.org/event/nrmca-introduction-concrete-pavement-analyst-cpa-software-webinar/
LOCATION:Online
CATEGORIES:Live Webinars,Non-ISCP Events
END:VEVENT
END:VCALENDAR