BEGIN:VCALENDAR
VERSION:2.0
PRODID:-//International Society for Concrete Pavements - ECPv6.15.20//NONSGML v1.0//EN
CALSCALE:GREGORIAN
METHOD:PUBLISH
X-WR-CALNAME:International Society for Concrete Pavements
X-ORIGINAL-URL:https://www.concretepavements.org
X-WR-CALDESC:Events for International Society for Concrete Pavements
REFRESH-INTERVAL;VALUE=DURATION:PT1H
X-Robots-Tag:noindex
X-PUBLISHED-TTL:PT1H
BEGIN:VTIMEZONE
TZID:America/New_York
BEGIN:DAYLIGHT
TZOFFSETFROM:-0500
TZOFFSETTO:-0400
TZNAME:EDT
DTSTART:20180311T070000
END:DAYLIGHT
BEGIN:STANDARD
TZOFFSETFROM:-0400
TZOFFSETTO:-0500
TZNAME:EST
DTSTART:20181104T060000
END:STANDARD
BEGIN:DAYLIGHT
TZOFFSETFROM:-0500
TZOFFSETTO:-0400
TZNAME:EDT
DTSTART:20190310T070000
END:DAYLIGHT
BEGIN:STANDARD
TZOFFSETFROM:-0400
TZOFFSETTO:-0500
TZNAME:EST
DTSTART:20191103T060000
END:STANDARD
BEGIN:DAYLIGHT
TZOFFSETFROM:-0500
TZOFFSETTO:-0400
TZNAME:EDT
DTSTART:20200308T070000
END:DAYLIGHT
BEGIN:STANDARD
TZOFFSETFROM:-0400
TZOFFSETTO:-0500
TZNAME:EST
DTSTART:20201101T060000
END:STANDARD
BEGIN:DAYLIGHT
TZOFFSETFROM:-0500
TZOFFSETTO:-0400
TZNAME:EDT
DTSTART:20210314T070000
END:DAYLIGHT
BEGIN:STANDARD
TZOFFSETFROM:-0400
TZOFFSETTO:-0500
TZNAME:EST
DTSTART:20211107T060000
END:STANDARD
BEGIN:DAYLIGHT
TZOFFSETFROM:-0500
TZOFFSETTO:-0400
TZNAME:EDT
DTSTART:20220313T070000
END:DAYLIGHT
BEGIN:STANDARD
TZOFFSETFROM:-0400
TZOFFSETTO:-0500
TZNAME:EST
DTSTART:20221106T060000
END:STANDARD
BEGIN:DAYLIGHT
TZOFFSETFROM:-0500
TZOFFSETTO:-0400
TZNAME:EDT
DTSTART:20230312T070000
END:DAYLIGHT
BEGIN:STANDARD
TZOFFSETFROM:-0400
TZOFFSETTO:-0500
TZNAME:EST
DTSTART:20231105T060000
END:STANDARD
END:VTIMEZONE
BEGIN:VTIMEZONE
TZID:America/Chicago
BEGIN:DAYLIGHT
TZOFFSETFROM:-0600
TZOFFSETTO:-0500
TZNAME:CDT
DTSTART:20200308T080000
END:DAYLIGHT
BEGIN:STANDARD
TZOFFSETFROM:-0500
TZOFFSETTO:-0600
TZNAME:CST
DTSTART:20201101T070000
END:STANDARD
BEGIN:DAYLIGHT
TZOFFSETFROM:-0600
TZOFFSETTO:-0500
TZNAME:CDT
DTSTART:20210314T080000
END:DAYLIGHT
BEGIN:STANDARD
TZOFFSETFROM:-0500
TZOFFSETTO:-0600
TZNAME:CST
DTSTART:20211107T070000
END:STANDARD
BEGIN:DAYLIGHT
TZOFFSETFROM:-0600
TZOFFSETTO:-0500
TZNAME:CDT
DTSTART:20220313T080000
END:DAYLIGHT
BEGIN:STANDARD
TZOFFSETFROM:-0500
TZOFFSETTO:-0600
TZNAME:CST
DTSTART:20221106T070000
END:STANDARD
END:VTIMEZONE
BEGIN:VEVENT
DTSTART;TZID=America/New_York:20220927T083000
DTEND;TZID=America/New_York:20220928T170000
DTSTAMP:20260423T120425
CREATED:20220303T203642Z
LAST-MODIFIED:20220526T041633Z
UID:22277-1664267400-1664384400@www.concretepavements.org
SUMMARY:CCT Seminar on Cement Stabilization & RCC: Sponsor! Agenda; Early Reg. by Aug. 15; Hotel Block Reg. thru Mon. Sept. 5
DESCRIPTION:REGISTRATION:\nEarly Registration – On or before August 15\, 2022\nLate Registration – After August 15\, 2022\n \nHOTEL:\nThere is a BLOCK OF ROOMS with a conference room rate of $124.00 per night. REGISTER NOW! DEADLINE for the room block is Monday\, September 5\, 2022. Rate is available for hotel stays from June 5\, 2022 through June 11\, 2022:\nhttps://www.cementx.org/cement-rcc-conf-hotel\nAND: www.marriott.com/event-reservations/reservation-link.mi?id=1625239966758&key=GRP&app=resvlink OR\nhttps://www.cementx.org/cement-rcc-conf-hotel \nShare this:\n				Email a link to a friend (Opens in new window)\n				Email\n			\n				Print (Opens in new window)\n				Print\n			\n				Share on Facebook (Opens in new window)\n				Facebook\n			\n				Share on LinkedIn (Opens in new window)\n				LinkedIn\n			\n				Share on X (Opens in new window)\n				X
URL:https://www.concretepavements.org/event/cct-seminar-on-cement-stabilization-early-reg-by-may-15-hotel-block-reg-by-may-6/
LOCATION:Sheraton Arlington Hotel Arlington\, 1500 Convention Center Drive\, Arlington\, Texas\, 76011\, United States
CATEGORIES:Exhibitions,Live Demonstrations,Seminars,Showcase,Sponsorships
ATTACH;FMTTYPE=image/jpeg:https://www.concretepavements.org/wp-content/uploads/2022/03/CCT-RCC-HOME.jpg
ORGANIZER;CN="The Cement Council of Texas (CCT)":MAILTO:(817) 919-5858
END:VEVENT
BEGIN:VEVENT
DTSTART;TZID=America/New_York:20220518T090000
DTEND;TZID=America/New_York:20220519T150000
DTSTAMP:20260423T120425
CREATED:20210725T185118Z
LAST-MODIFIED:20220513T184918Z
UID:19402-1652864400-1652972400@www.concretepavements.org
SUMMARY:Save 50%!! PRE-REGISTER by May 17th! Canadian Concrete EXPO 2022
DESCRIPTION:SAVE 50%: Pre-register by May 17th  |   11:59pm EST\, USA \n4th Annual CCE is growing again\nThe Only National Trade Show in Canada Dedicated to Concrete \nShare this:\n				Email a link to a friend (Opens in new window)\n				Email\n			\n				Print (Opens in new window)\n				Print\n			\n				Share on Facebook (Opens in new window)\n				Facebook\n			\n				Share on LinkedIn (Opens in new window)\n				LinkedIn\n			\n				Share on X (Opens in new window)\n				X
URL:https://www.concretepavements.org/event/canadian-concrete-expo-2022/
LOCATION:The International Centre\, 6900 Airport Rd\, Mississauga\, Ontario\, ON L4V 1E8\, Canada
CATEGORIES:Conferences,Exhibitions,Showcase,Sponsorships
ATTACH;FMTTYPE=image/png:https://www.concretepavements.org/wp-content/uploads/2021/07/CanadianConcrExpo.png
END:VEVENT
BEGIN:VEVENT
DTSTART;TZID=America/New_York:20220314T080000
DTEND;TZID=America/New_York:20220316T123000
DTSTAMP:20260423T120425
CREATED:20211120T080859Z
LAST-MODIFIED:20211120T080859Z
UID:20834-1647244800-1647433800@www.concretepavements.org
SUMMARY:10th Annual “P3C2022 Expo”
DESCRIPTION:Share this:\n				Email a link to a friend (Opens in new window)\n				Email\n			\n				Print (Opens in new window)\n				Print\n			\n				Share on Facebook (Opens in new window)\n				Facebook\n			\n				Share on LinkedIn (Opens in new window)\n				LinkedIn\n			\n				Share on X (Opens in new window)\n				X
URL:https://www.concretepavements.org/event/10th-annual-p3c2022-expo/
LOCATION:Sheraton Hotel Dallas\, Texas\, 400 North Olive Street\, Dallas\, TX\, 75201\, United States
CATEGORIES:Conferences,Exhibitions,Sponsorships
ATTACH;FMTTYPE=image/png:https://www.concretepavements.org/wp-content/uploads/2021/11/P3C.png
ORGANIZER;CN="P3C 2022 Expo":MAILTO:ageoffrey@accessintel.com
END:VEVENT
BEGIN:VEVENT
DTSTART;TZID=America/New_York:20211017T130000
DTEND;TZID=America/New_York:20211021T200000
DTSTAMP:20260423T120425
CREATED:20210722T062223Z
LAST-MODIFIED:20210729T171921Z
UID:19358-1634475600-1634846400@www.concretepavements.org
SUMMARY:Fall 2021 ACI Concrete Convention + Virtual Option; Reg. Discount thru Sep. 12
DESCRIPTION:Thursday\, October 21\, 2021\n8:00 am – 12:00 pm\nBoard of Direction Meeting\nREGISTRATION: www.concrete.org/events/conventions/currentconvention.aspx \nISCP Article: www.concretepavements.org/2021/07/22/fall-2021-aci-concrete-convention-oct-17-21-atlanta-ga-reg-discount-thru-sep-12/ \n\n\n\n\nShare this:\n				Email a link to a friend (Opens in new window)\n				Email\n			\n				Print (Opens in new window)\n				Print\n			\n				Share on Facebook (Opens in new window)\n				Facebook\n			\n				Share on LinkedIn (Opens in new window)\n				LinkedIn\n			\n				Share on X (Opens in new window)\n				X
URL:https://www.concretepavements.org/event/fall-2021-aci-concrete-convention-virtual-option-reg-discount-thru-sep-12/
LOCATION:The Hilton Atlanta\, 255 Courtland Street NE\, Atlanta\, GA\, 30303\, United States
CATEGORIES:Conferences,Exhibitions,Live Broadcast,Meetings,Sponsorships
ATTACH;FMTTYPE=image/png:https://www.concretepavements.org/wp-content/uploads/2021/07/ACI_HOME.png
END:VEVENT
BEGIN:VEVENT
DTSTART;VALUE=DATE:20210927
DTEND;VALUE=DATE:20211002
DTSTAMP:20260423T120425
CREATED:20190109T184255Z
LAST-MODIFIED:20210720T223547Z
UID:10889-1632700800-1633132799@www.concretepavements.org
SUMMARY:12th International Conference on Concrete Pavements - ONLINE EVENT
DESCRIPTION:Between unknown international travel and limited travel opportunities for state agencies in the United States\, we can announce that the 12th ICCP has been MOVED ONLINE for 2021\n \nShare this:\n				Email a link to a friend (Opens in new window)\n				Email\n			\n				Print (Opens in new window)\n				Print\n			\n				Share on Facebook (Opens in new window)\n				Facebook\n			\n				Share on LinkedIn (Opens in new window)\n				LinkedIn\n			\n				Share on X (Opens in new window)\n				X
URL:https://www.concretepavements.org/event/12th-international-conference-on-concrete-pavements/
CATEGORIES:Conferences,Exhibitions,ISCP Events,ISCP Members' Events,Live Broadcast,Registration,Sponsorships,VIRTUAL Meeting
ATTACH;FMTTYPE=image/png:https://www.concretepavements.org/wp-content/uploads/2021/07/12thVirtualLOGO_round.png
END:VEVENT
BEGIN:VEVENT
DTSTART;TZID=America/New_York:20210328T080000
DTEND;TZID=America/New_York:20210401T170000
DTSTAMP:20260423T120425
CREATED:20210205T044328Z
LAST-MODIFIED:20210205T044328Z
UID:17467-1616918400-1617296400@www.concretepavements.org
SUMMARY:Virtual ACI 2021 Spring Convention
DESCRIPTION:Share this:\n				Email a link to a friend (Opens in new window)\n				Email\n			\n				Print (Opens in new window)\n				Print\n			\n				Share on Facebook (Opens in new window)\n				Facebook\n			\n				Share on LinkedIn (Opens in new window)\n				LinkedIn\n			\n				Share on X (Opens in new window)\n				X
URL:https://www.concretepavements.org/event/virtual-aci-2021-spring-convention/
CATEGORIES:Exhibitions,Live Broadcast,Live Demonstrations,Live Webinars,Meetings,Sponsorships,VIRTUAL Meeting
ATTACH;FMTTYPE=image/png:https://www.concretepavements.org/wp-content/uploads/2021/02/ACIVirtualConventionHOME.png
END:VEVENT
BEGIN:VEVENT
DTSTART;TZID=America/New_York:20200203T080000
DTEND;TZID=America/New_York:20200207T170000
DTSTAMP:20260423T120425
CREATED:20191024T200343Z
LAST-MODIFIED:20191024T200343Z
UID:12926-1580716800-1581094800@www.concretepavements.org
SUMMARY:"World of Concrete 2020"
DESCRIPTION:Share this:\n				Email a link to a friend (Opens in new window)\n				Email\n			\n				Print (Opens in new window)\n				Print\n			\n				Share on Facebook (Opens in new window)\n				Facebook\n			\n				Share on LinkedIn (Opens in new window)\n				LinkedIn\n			\n				Share on X (Opens in new window)\n				X
URL:https://www.concretepavements.org/event/world-of-concrete-2020/
LOCATION:Las Vegas Convention Center\, 3150 Paradise Road\, Las Vegas\, NV\, 89109\, United States
CATEGORIES:Conferences,Courses,Exhibitions,Live Demonstrations,Meetings,Seminars,Showcase,Sponsorships,Workshops
ORGANIZER;CN="World of Concrete":MAILTO:contactus@worldofconcrete.com
END:VEVENT
BEGIN:VEVENT
DTSTART;TZID=America/New_York:20200122T080000
DTEND;TZID=America/New_York:20200123T170000
DTSTAMP:20260423T120425
CREATED:20191010T043258Z
LAST-MODIFIED:20191010T043258Z
UID:12798-1579680000-1579798800@www.concretepavements.org
SUMMARY:3rd Annual Canadian Concrete EXPO (CCE)
DESCRIPTION:Share this:\n				Email a link to a friend (Opens in new window)\n				Email\n			\n				Print (Opens in new window)\n				Print\n			\n				Share on Facebook (Opens in new window)\n				Facebook\n			\n				Share on LinkedIn (Opens in new window)\n				LinkedIn\n			\n				Share on X (Opens in new window)\n				X
URL:https://www.concretepavements.org/event/3rd-annual-canadian-concrete-expo-cce/
LOCATION:International Centre in Toronto\, Canada\, Hall 1 & 2\, 6900 Airport Road\, Mississauga\, Ontario\, L4V1E8\, Canada
CATEGORIES:Conferences,Exhibitions,Meetings,Showcase,Sponsorships
END:VEVENT
BEGIN:VEVENT
DTSTART;TZID=America/New_York:20191119T080000
DTEND;TZID=America/New_York:20191122T170000
DTSTAMP:20260423T120425
CREATED:20190819T191141Z
LAST-MODIFIED:20190819T191141Z
UID:12395-1574150400-1574442000@www.concretepavements.org
SUMMARY:AAA “National Conference Gold Coast 2019” in Australia with Events Before & After on Nov 18 and 23
DESCRIPTION:The Women in Airports Forum is to be held Monday from 14:00-18:00\, and the National Conference Technical Forum Sessions are to be held Friday from 09:00-15:30. \nAAA “National Conference Gold Coast 2019” to be Held Nov 19-22 in Australia; Welcoming Exhibitors\, Sponsors\, Partners\, & Award Nominations; Offering Scholarships \n \nShare this:\n				Email a link to a friend (Opens in new window)\n				Email\n			\n				Print (Opens in new window)\n				Print\n			\n				Share on Facebook (Opens in new window)\n				Facebook\n			\n				Share on LinkedIn (Opens in new window)\n				LinkedIn\n			\n				Share on X (Opens in new window)\n				X
URL:https://www.concretepavements.org/event/aaa-national-conference-gold-coast-2019-in-australia-with-events-before-after-on-nov-18-and-23/
LOCATION:Gold Coast Convention & Exhibit Centre\, 2684 Gold Coast Hwy\, Broadbeach\, QLD\, 4218\, Australia
CATEGORIES:Conferences,Exhibitions,Forum,Showcase,Sponsorships
ORGANIZER;CN="Australian Airports Association (AAA)":MAILTO:info@airports.asn.au
END:VEVENT
BEGIN:VEVENT
DTSTART;TZID=America/New_York:20191009T070000
DTEND;TZID=America/New_York:20191011T120000
DTSTAMP:20260423T120425
CREATED:20190711T173824Z
LAST-MODIFIED:20190711T173824Z
UID:12062-1570604400-1570795200@www.concretepavements.org
SUMMARY:SESPA "2019 Southeast States Pavement Conference" in Louisville\, Ky.
DESCRIPTION:Share this:\n				Email a link to a friend (Opens in new window)\n				Email\n			\n				Print (Opens in new window)\n				Print\n			\n				Share on Facebook (Opens in new window)\n				Facebook\n			\n				Share on LinkedIn (Opens in new window)\n				LinkedIn\n			\n				Share on X (Opens in new window)\n				X
URL:https://www.concretepavements.org/event/sespa-2019-southeast-states-pavement-conference-in-louisville-ky/
LOCATION:The Brown Hotel\, 335 West Broadway\, Louisville\, KY\, 40202\, United States
CATEGORIES:Conferences,Exhibitions,Meetings,Sponsorships,Workshops
ORGANIZER;CN="Southeastern States Pavement Association (SESPA)":MAILTO:sespavement@gmail.com
END:VEVENT
BEGIN:VEVENT
DTSTART;TZID=America/New_York:20190921T080000
DTEND;TZID=America/New_York:20190925T170000
DTSTAMP:20260423T120425
CREATED:20190819T192627Z
LAST-MODIFIED:20190819T192627Z
UID:12402-1569052800-1569430800@www.concretepavements.org
SUMMARY:“AREMA Annual Conference” in Conjunction with “Railway Interchange 2019” to be Held in Minneapolis\, Mn—RCC Pavement Council Exhibitor
DESCRIPTION:Share this:\n				Email a link to a friend (Opens in new window)\n				Email\n			\n				Print (Opens in new window)\n				Print\n			\n				Share on Facebook (Opens in new window)\n				Facebook\n			\n				Share on LinkedIn (Opens in new window)\n				LinkedIn\n			\n				Share on X (Opens in new window)\n				X
URL:https://www.concretepavements.org/event/arema-annual-conference-in-conjunction-with-railway-interchange-2019-to-be-held-in-minneapolis-mn-rcc-pavement-council-exhibitor/
LOCATION:Minneapolis Convention Center\, 1301 Second Avenue South\, Minneapolis\, MN\, 55403\, United States
CATEGORIES:Conferences,Exhibitions,Forum,Live Demonstrations,Meetings,Showcase,Sponsorships,Tours,Workshops
ORGANIZER;CN="American Railway Engineering and Maintenance-of-Way Association (AREMA)":MAILTO:info@arema.org
END:VEVENT
END:VCALENDAR