BEGIN:VCALENDAR
VERSION:2.0
PRODID:-//International Society for Concrete Pavements - ECPv6.15.20//NONSGML v1.0//EN
CALSCALE:GREGORIAN
METHOD:PUBLISH
X-WR-CALNAME:International Society for Concrete Pavements
X-ORIGINAL-URL:https://www.concretepavements.org
X-WR-CALDESC:Events for International Society for Concrete Pavements
REFRESH-INTERVAL;VALUE=DURATION:PT1H
X-Robots-Tag:noindex
X-PUBLISHED-TTL:PT1H
BEGIN:VTIMEZONE
TZID:America/New_York
BEGIN:DAYLIGHT
TZOFFSETFROM:-0500
TZOFFSETTO:-0400
TZNAME:EDT
DTSTART:20200308T070000
END:DAYLIGHT
BEGIN:STANDARD
TZOFFSETFROM:-0400
TZOFFSETTO:-0500
TZNAME:EST
DTSTART:20201101T060000
END:STANDARD
BEGIN:DAYLIGHT
TZOFFSETFROM:-0500
TZOFFSETTO:-0400
TZNAME:EDT
DTSTART:20210314T070000
END:DAYLIGHT
BEGIN:STANDARD
TZOFFSETFROM:-0400
TZOFFSETTO:-0500
TZNAME:EST
DTSTART:20211107T060000
END:STANDARD
BEGIN:DAYLIGHT
TZOFFSETFROM:-0500
TZOFFSETTO:-0400
TZNAME:EDT
DTSTART:20220313T070000
END:DAYLIGHT
BEGIN:STANDARD
TZOFFSETFROM:-0400
TZOFFSETTO:-0500
TZNAME:EST
DTSTART:20221106T060000
END:STANDARD
BEGIN:DAYLIGHT
TZOFFSETFROM:-0500
TZOFFSETTO:-0400
TZNAME:EDT
DTSTART:20230312T070000
END:DAYLIGHT
BEGIN:STANDARD
TZOFFSETFROM:-0400
TZOFFSETTO:-0500
TZNAME:EST
DTSTART:20231105T060000
END:STANDARD
END:VTIMEZONE
BEGIN:VEVENT
DTSTART;TZID=America/New_York:20220810T080000
DTEND;TZID=America/New_York:20220811T150000
DTSTAMP:20260425T081207
CREATED:20220412T212033Z
LAST-MODIFIED:20220426T030043Z
UID:22677-1660118400-1660230000@www.concretepavements.org
SUMMARY:P3 6th Annual Airport Summit to be Held in San Diego\, CA\, P3 6th Annual Airport Summit to be Held Aug. 10-11\, 2022 in San Diego\, CA\, Early Bird Reg thru Apr. 29
DESCRIPTION:Share this:\n				Email a link to a friend (Opens in new window)\n				Email\n			\n				Print (Opens in new window)\n				Print\n			\n				Share on Facebook (Opens in new window)\n				Facebook\n			\n				Share on LinkedIn (Opens in new window)\n				LinkedIn\n			\n				Share on X (Opens in new window)\n				X
URL:https://www.concretepavements.org/event/p3-6th-annual-airport-summit-to-be-held-in-san-diego-ca/
LOCATION:Manchester Grand Hyatt San Diego Hotel\, 1 Market Pl\, San Diego\, CA\, 92101\, United States
CATEGORIES:Summit
ATTACH;FMTTYPE=image/jpeg:https://www.concretepavements.org/wp-content/uploads/2022/03/P3Airport2022-HOME.jpg
ORGANIZER;CN="P3 Airports":MAILTO:splombon@accessintel.com
END:VEVENT
BEGIN:VEVENT
DTSTART;TZID=America/New_York:20210719T080000
DTEND;TZID=America/New_York:20210720T150000
DTSTAMP:20260425T081207
CREATED:20210405T183655Z
LAST-MODIFIED:20210601T194106Z
UID:18116-1626681600-1626793200@www.concretepavements.org
SUMMARY:In-Person! “2021 P3 Airport Summit” Register by Jun 11! Agenda Now Available!
DESCRIPTION:Register by June 11\, 2021: www.p3airportsummit.com/page/1665987/register\n2021 AGENDA: www.p3airportsummit.com/page/1831656/2021-agenda \nShare this:\n				Email a link to a friend (Opens in new window)\n				Email\n			\n				Print (Opens in new window)\n				Print\n			\n				Share on Facebook (Opens in new window)\n				Facebook\n			\n				Share on LinkedIn (Opens in new window)\n				LinkedIn\n			\n				Share on X (Opens in new window)\n				X
URL:https://www.concretepavements.org/event/in-person-2021-p3-airport-summit-early-bird-reg-by-may-7/
LOCATION:Manchester Grand Hyatt San Diego Hotel\, 1 Market Pl\, San Diego\, CA\, 92101\, United States
CATEGORIES:Summit
ATTACH;FMTTYPE=image/jpeg:https://www.concretepavements.org/wp-content/uploads/2021/03/P3-Airport-Email-Header0223.jpg
ORGANIZER;CN="P3 Airports":MAILTO:splombon@accessintel.com
END:VEVENT
END:VCALENDAR