BEGIN:VCALENDAR
VERSION:2.0
PRODID:-//International Society for Concrete Pavements - ECPv6.15.20//NONSGML v1.0//EN
CALSCALE:GREGORIAN
METHOD:PUBLISH
X-WR-CALNAME:International Society for Concrete Pavements
X-ORIGINAL-URL:https://www.concretepavements.org
X-WR-CALDESC:Events for International Society for Concrete Pavements
REFRESH-INTERVAL;VALUE=DURATION:PT1H
X-Robots-Tag:noindex
X-PUBLISHED-TTL:PT1H
BEGIN:VTIMEZONE
TZID:America/New_York
BEGIN:DAYLIGHT
TZOFFSETFROM:-0500
TZOFFSETTO:-0400
TZNAME:EDT
DTSTART:20170312T070000
END:DAYLIGHT
BEGIN:STANDARD
TZOFFSETFROM:-0400
TZOFFSETTO:-0500
TZNAME:EST
DTSTART:20171105T060000
END:STANDARD
BEGIN:DAYLIGHT
TZOFFSETFROM:-0500
TZOFFSETTO:-0400
TZNAME:EDT
DTSTART:20180311T070000
END:DAYLIGHT
BEGIN:STANDARD
TZOFFSETFROM:-0400
TZOFFSETTO:-0500
TZNAME:EST
DTSTART:20181104T060000
END:STANDARD
BEGIN:DAYLIGHT
TZOFFSETFROM:-0500
TZOFFSETTO:-0400
TZNAME:EDT
DTSTART:20190310T070000
END:DAYLIGHT
BEGIN:STANDARD
TZOFFSETFROM:-0400
TZOFFSETTO:-0500
TZNAME:EST
DTSTART:20191103T060000
END:STANDARD
BEGIN:DAYLIGHT
TZOFFSETFROM:-0500
TZOFFSETTO:-0400
TZNAME:EDT
DTSTART:20200308T070000
END:DAYLIGHT
BEGIN:STANDARD
TZOFFSETFROM:-0400
TZOFFSETTO:-0500
TZNAME:EST
DTSTART:20201101T060000
END:STANDARD
BEGIN:DAYLIGHT
TZOFFSETFROM:-0500
TZOFFSETTO:-0400
TZNAME:EDT
DTSTART:20210314T070000
END:DAYLIGHT
BEGIN:STANDARD
TZOFFSETFROM:-0400
TZOFFSETTO:-0500
TZNAME:EST
DTSTART:20211107T060000
END:STANDARD
END:VTIMEZONE
BEGIN:VEVENT
DTSTART;TZID=America/New_York:20200310T080000
DTEND;TZID=America/New_York:20200314T170000
DTSTAMP:20260423T155359
CREATED:20190720T044527Z
LAST-MODIFIED:20200229T060841Z
UID:12154-1583827200-1584205200@www.concretepavements.org
SUMMARY:CONEXPO-CON/AGG 2020 at the Las Vegas Convention Center & Surrounding Area—Speakers Include ISCP Officers & Members
DESCRIPTION:CONEXPO-CON/AGG is held every 3 years in Las Vegas\, Nevada\, USA\nShare this:\n				Email a link to a friend (Opens in new window)\n				Email\n			\n				Print (Opens in new window)\n				Print\n			\n				Share on Facebook (Opens in new window)\n				Facebook\n			\n				Share on LinkedIn (Opens in new window)\n				LinkedIn\n			\n				Share on X (Opens in new window)\n				X
URL:https://www.concretepavements.org/event/conexpo-con-agg-2020-at-the-las-vegas-convention-center-surrounding-area-speakers-include-iscp-officers-members/
LOCATION:Las Vegas Convention Center\, 3150 Paradise Road\, Las Vegas\, NV\, 89109\, United States
CATEGORIES:Exhibitions,Lectures,Live Demonstrations,Meetings,Presentation,Reception,Seminars,Showcase,Tech Day,Tours,Workshops
END:VEVENT
BEGIN:VEVENT
DTSTART;TZID=America/New_York:20190921T080000
DTEND;TZID=America/New_York:20190925T170000
DTSTAMP:20260423T155359
CREATED:20190819T192627Z
LAST-MODIFIED:20190819T192627Z
UID:12402-1569052800-1569430800@www.concretepavements.org
SUMMARY:“AREMA Annual Conference” in Conjunction with “Railway Interchange 2019” to be Held in Minneapolis\, Mn—RCC Pavement Council Exhibitor
DESCRIPTION:Share this:\n				Email a link to a friend (Opens in new window)\n				Email\n			\n				Print (Opens in new window)\n				Print\n			\n				Share on Facebook (Opens in new window)\n				Facebook\n			\n				Share on LinkedIn (Opens in new window)\n				LinkedIn\n			\n				Share on X (Opens in new window)\n				X
URL:https://www.concretepavements.org/event/arema-annual-conference-in-conjunction-with-railway-interchange-2019-to-be-held-in-minneapolis-mn-rcc-pavement-council-exhibitor/
LOCATION:Minneapolis Convention Center\, 1301 Second Avenue South\, Minneapolis\, MN\, 55403\, United States
CATEGORIES:Conferences,Exhibitions,Forum,Live Demonstrations,Meetings,Showcase,Sponsorships,Tours,Workshops
ORGANIZER;CN="American Railway Engineering and Maintenance-of-Way Association (AREMA)":MAILTO:info@arema.org
END:VEVENT
BEGIN:VEVENT
DTSTART;TZID=America/New_York:20190914T080000
DTEND;TZID=America/New_York:20190920T170000
DTSTAMP:20260423T155359
CREATED:20181006T022523Z
LAST-MODIFIED:20190208T195726Z
UID:10338-1568448000-1568998800@www.concretepavements.org
SUMMARY:15th International Congress on the Chemistry of Cement (ICCC 2019): Sep 16-20; Pre-Conference Courses Sept 14-15\, 2019 in Prague\, Czech Republic
DESCRIPTION:The 15th International Congress on the Chemistry of Cement (ICCC 2019) will be held September 16th–20th\, 2019 at the Prague Congress Centre in Prague\, Czech Republic. \nPrague video: www.iccc2019.org \nShare this:\n				Email a link to a friend (Opens in new window)\n				Email\n			\n				Print (Opens in new window)\n				Print\n			\n				Share on Facebook (Opens in new window)\n				Facebook\n			\n				Share on LinkedIn (Opens in new window)\n				LinkedIn\n			\n				Share on X (Opens in new window)\n				X
URL:https://www.concretepavements.org/event/15th-international-congress-on-the-chemistry-of-cement-iccc-2019-in-prague/
LOCATION:Prague Congress Centre\, 5. května 65\, Prague\, Prague 4\, 140 21\, Czech Republic
CATEGORIES:Conferences,Courses,Exhibitions,Meetings,Presentation,Seminars,Showcase,Symposium,Tours,Workshops
ORGANIZER;CN="15th ICCC 2019 Prague":MAILTO:organizingcommittee@iccc2019.org
END:VEVENT
BEGIN:VEVENT
DTSTART;TZID=America/New_York:20190521T080000
DTEND;TZID=America/New_York:20190523T163000
DTSTAMP:20260423T155359
CREATED:20190311T211546Z
LAST-MODIFIED:20190311T211546Z
UID:11271-1558425600-1558629000@www.concretepavements.org
SUMMARY:2019 NRRA Pavement Workshop—Exhibitors\, Tour & APPs
DESCRIPTION:Share this:\n				Email a link to a friend (Opens in new window)\n				Email\n			\n				Print (Opens in new window)\n				Print\n			\n				Share on Facebook (Opens in new window)\n				Facebook\n			\n				Share on LinkedIn (Opens in new window)\n				LinkedIn\n			\n				Share on X (Opens in new window)\n				X
URL:https://www.concretepavements.org/event/2019-nrra-pavement-workshop-exhibitors-tour-apps/
LOCATION:MnROAD and Continuing Education and Conference Center\, 1890 Buford Avenue\, St. Paul\, MN\, 55108\, United States
CATEGORIES:Exhibitions,Tours,Workshops
END:VEVENT
BEGIN:VEVENT
DTSTART;TZID=America/New_York:20190514T080000
DTEND;TZID=America/New_York:20190515T170000
DTSTAMP:20260423T155359
CREATED:20190329T032420Z
LAST-MODIFIED:20190329T032420Z
UID:11370-1557820800-1557939600@www.concretepavements.org
SUMMARY:"2019 TCC Fly-In" in Conjunction with "ARTBA Federal Issues Program"—Washington\, D.C.
DESCRIPTION:The 2019 Transportation Construction Coalition (TCC) Fly-In on May 14 and 15\, 2019 is a two-day event to be held in conjunction with the American Road and Transportation Builders Association (ARTBA) Federal Issues Program (May 13-15) at the Grand Hyatt Hotel in Washington\, D.C.\, USA. The two-day event includes presentations on legislative\, regulatory\, economic\, and safety topics\, as well as Capitol Hill visits. With the narrative in the Nation’s capital increasingly turning in favor of infrastructure investment\, all in the industry are encouraged to attend! \nShare this:\n				Email a link to a friend (Opens in new window)\n				Email\n			\n				Print (Opens in new window)\n				Print\n			\n				Share on Facebook (Opens in new window)\n				Facebook\n			\n				Share on LinkedIn (Opens in new window)\n				LinkedIn\n			\n				Share on X (Opens in new window)\n				X
URL:https://www.concretepavements.org/event/2019-tcc-fly-in-in-conjunction-with-artba-federal-issues-program-washington-d-c/
LOCATION:Grand Hyatt Hotel\, Washington\, D.C.\, 1000 H Street NW\, Washington\, D.C.\, 20001\, United States
CATEGORIES:Conferences,Forum,Meetings,Presentation,Seminars,Tours
END:VEVENT
BEGIN:VEVENT
DTSTART;TZID=America/New_York:20190402T080000
DTEND;TZID=America/New_York:20190404T170000
DTSTAMP:20260423T155359
CREATED:20181006T015007Z
LAST-MODIFIED:20181006T014427Z
UID:10327-1554192000-1554397200@www.concretepavements.org
SUMMARY:NC2 2019 Spring Meeting
DESCRIPTION:Share this:\n				Email a link to a friend (Opens in new window)\n				Email\n			\n				Print (Opens in new window)\n				Print\n			\n				Share on Facebook (Opens in new window)\n				Facebook\n			\n				Share on LinkedIn (Opens in new window)\n				LinkedIn\n			\n				Share on X (Opens in new window)\n				X
URL:https://www.concretepavements.org/event/nc2-2019-spring-meeting/
LOCATION:Sheraton Denver West Hotel\, 360 Union Blvd\, Lakewood\, CO\, 80228\, United States
CATEGORIES:Meetings,Presentation,Tours
END:VEVENT
BEGIN:VEVENT
DTSTART;TZID=America/New_York:20190122T093000
DTEND;TZID=America/New_York:20190125T120000
DTSTAMP:20260423T155359
CREATED:20181006T014014Z
LAST-MODIFIED:20181006T013656Z
UID:10324-1548149400-1548417600@www.concretepavements.org
SUMMARY:World of Concrete 2019 “We Don’t Stop”
DESCRIPTION:ABOUT WORLD OF CONCRETE: \nWOC was introduced to the commercial construction industry in Houston\, Texas in 1975\, and boasts more\nthan 1\,500 exhibiting companies and 58\,000 registered industry professionals in more than 745\,000 net\nsquare feet of exhibit space. \nShare this:\n				Email a link to a friend (Opens in new window)\n				Email\n			\n				Print (Opens in new window)\n				Print\n			\n				Share on Facebook (Opens in new window)\n				Facebook\n			\n				Share on LinkedIn (Opens in new window)\n				LinkedIn\n			\n				Share on X (Opens in new window)\n				X
URL:https://www.concretepavements.org/event/world-of-concrete-2019-we-dont-stop/
LOCATION:Las Vegas Convention Center\, 3150 Paradise Road\, Las Vegas\, NV\, 89109\, United States
CATEGORIES:Exhibitions,Forum,Lectures,Live Demonstrations,Meetings,Presentation,Reception,Showcase,Tours,Workshops
ORGANIZER;CN="WOC":MAILTO:registration@worldofconcrete.com
END:VEVENT
BEGIN:VEVENT
DTSTART;TZID=America/New_York:20181109T123000
DTEND;TZID=America/New_York:20181109T163000
DTSTAMP:20260423T155359
CREATED:20181005T230514Z
LAST-MODIFIED:20181005T230206Z
UID:10314-1541766600-1541781000@www.concretepavements.org
SUMMARY:Register by Nov. 1st! Luncheon: "2-Layered CRCP Worksite Visit & Reception" in Belgium on Nov. 9
DESCRIPTION:FEBELCEM\, EUPAVE\, and the Belgian Road Association (ABR-BWV) are glad to invite you to the worksite visit of the “Construction of the by-pass road of Couvin in two-layered CRCP”. “Construction of the E420-N5 By-Pass of Couvin in two-layered continuously reinforced concrete pavement (CRCP)” \nShare this:\n				Email a link to a friend (Opens in new window)\n				Email\n			\n				Print (Opens in new window)\n				Print\n			\n				Share on Facebook (Opens in new window)\n				Facebook\n			\n				Share on LinkedIn (Opens in new window)\n				LinkedIn\n			\n				Share on X (Opens in new window)\n				X
URL:https://www.concretepavements.org/event/register-by-nov-1st-luncheon-2-layered-crcp-worksite-visit-reception-in-belgium-on-nov-9/
LOCATION:Brasserie des Fagnes\, 26\, route de Nismes - B 5660\, Mariembourg (Couvin)\, 5660\, Belgium
CATEGORIES:Meetings,Reception,Tours
ORGANIZER;CN="EUPAVE":MAILTO:info@eupave.eu
END:VEVENT
BEGIN:VEVENT
DTSTART;TZID=America/New_York:20181016T080000
DTEND;TZID=America/New_York:20181019T170000
DTSTAMP:20260423T155359
CREATED:20180802T193024Z
LAST-MODIFIED:20180802T192812Z
UID:10038-1539676800-1539968400@www.concretepavements.org
SUMMARY:12th ICCBP 2018 (Formerly 'PAVE') Seoul\, South Korea
DESCRIPTION:The 12th International Conference on Concrete Block Pavement (ICCBP 2018):\nThe Conference is mainly organized by the Association of Block Pavement in Korea but collaborates with the Korean Society of Road Engineers\, the Korean Institute of Civil Engineering and Building Technology\, Korea Specialty Contractors Association\, Korean Interlocking Block Cooperative\, and the Federation of Korea Concrete Industry Cooperatives. \nShare this:\n				Email a link to a friend (Opens in new window)\n				Email\n			\n				Print (Opens in new window)\n				Print\n			\n				Share on Facebook (Opens in new window)\n				Facebook\n			\n				Share on LinkedIn (Opens in new window)\n				LinkedIn\n			\n				Share on X (Opens in new window)\n				X
URL:https://www.concretepavements.org/event/12th-iccbp-2018-formerly-pave-seoul-south-korea/
LOCATION:Korea Chamber of Commerce and Industry\, 39\, Sejongdaero\, Jung-gu\, Seoul\, 04513\, Korea\, Republic of
CATEGORIES:Conferences,Exhibitions,Meetings,Presentation,Tours,Workshops
END:VEVENT
BEGIN:VEVENT
DTSTART;TZID=America/New_York:20180123T080000
DTEND;TZID=America/New_York:20180126T170000
DTSTAMP:20260423T155359
CREATED:20171030T034556Z
LAST-MODIFIED:20171030T033531Z
UID:9004-1516694400-1516986000@www.concretepavements.org
SUMMARY:World of Concrete 2018
DESCRIPTION:Share this:\n				Email a link to a friend (Opens in new window)\n				Email\n			\n				Print (Opens in new window)\n				Print\n			\n				Share on Facebook (Opens in new window)\n				Facebook\n			\n				Share on LinkedIn (Opens in new window)\n				LinkedIn\n			\n				Share on X (Opens in new window)\n				X
URL:https://www.concretepavements.org/event/world-of-concrete-2018/
LOCATION:Las Vegas Convention Center\, 3150 Paradise Road\, Las Vegas\, NV\, 89109\, United States
CATEGORIES:Exhibitions,Live Demonstrations,Meetings,Seminars,Tours,Workshops
ORGANIZER;CN="World of Concrete":MAILTO:contactus@worldofconcrete.com
END:VEVENT
END:VCALENDAR