BEGIN:VCALENDAR
VERSION:2.0
PRODID:-//International Society for Concrete Pavements - ECPv6.15.20//NONSGML v1.0//EN
CALSCALE:GREGORIAN
METHOD:PUBLISH
X-WR-CALNAME:International Society for Concrete Pavements
X-ORIGINAL-URL:https://www.concretepavements.org
X-WR-CALDESC:Events for International Society for Concrete Pavements
REFRESH-INTERVAL;VALUE=DURATION:PT1H
X-Robots-Tag:noindex
X-PUBLISHED-TTL:PT1H
BEGIN:VTIMEZONE
TZID:America/New_York
BEGIN:DAYLIGHT
TZOFFSETFROM:-0500
TZOFFSETTO:-0400
TZNAME:EDT
DTSTART:20190310T070000
END:DAYLIGHT
BEGIN:STANDARD
TZOFFSETFROM:-0400
TZOFFSETTO:-0500
TZNAME:EST
DTSTART:20191103T060000
END:STANDARD
BEGIN:DAYLIGHT
TZOFFSETFROM:-0500
TZOFFSETTO:-0400
TZNAME:EDT
DTSTART:20200308T070000
END:DAYLIGHT
BEGIN:STANDARD
TZOFFSETFROM:-0400
TZOFFSETTO:-0500
TZNAME:EST
DTSTART:20201101T060000
END:STANDARD
BEGIN:DAYLIGHT
TZOFFSETFROM:-0500
TZOFFSETTO:-0400
TZNAME:EDT
DTSTART:20210314T070000
END:DAYLIGHT
BEGIN:STANDARD
TZOFFSETFROM:-0400
TZOFFSETTO:-0500
TZNAME:EST
DTSTART:20211107T060000
END:STANDARD
BEGIN:DAYLIGHT
TZOFFSETFROM:-0500
TZOFFSETTO:-0400
TZNAME:EDT
DTSTART:20220313T070000
END:DAYLIGHT
BEGIN:STANDARD
TZOFFSETFROM:-0400
TZOFFSETTO:-0500
TZNAME:EST
DTSTART:20221106T060000
END:STANDARD
BEGIN:DAYLIGHT
TZOFFSETFROM:-0500
TZOFFSETTO:-0400
TZNAME:EDT
DTSTART:20230312T070000
END:DAYLIGHT
BEGIN:STANDARD
TZOFFSETFROM:-0400
TZOFFSETTO:-0500
TZNAME:EST
DTSTART:20231105T060000
END:STANDARD
BEGIN:DAYLIGHT
TZOFFSETFROM:-0500
TZOFFSETTO:-0400
TZNAME:EDT
DTSTART:20240310T070000
END:DAYLIGHT
BEGIN:STANDARD
TZOFFSETFROM:-0400
TZOFFSETTO:-0500
TZNAME:EST
DTSTART:20241103T060000
END:STANDARD
BEGIN:DAYLIGHT
TZOFFSETFROM:-0500
TZOFFSETTO:-0400
TZNAME:EDT
DTSTART:20250309T070000
END:DAYLIGHT
BEGIN:STANDARD
TZOFFSETFROM:-0400
TZOFFSETTO:-0500
TZNAME:EST
DTSTART:20251102T060000
END:STANDARD
BEGIN:DAYLIGHT
TZOFFSETFROM:-0500
TZOFFSETTO:-0400
TZNAME:EDT
DTSTART:20260308T070000
END:DAYLIGHT
BEGIN:STANDARD
TZOFFSETFROM:-0400
TZOFFSETTO:-0500
TZNAME:EST
DTSTART:20261101T060000
END:STANDARD
END:VTIMEZONE
BEGIN:VTIMEZONE
TZID:America/Chicago
BEGIN:DAYLIGHT
TZOFFSETFROM:-0600
TZOFFSETTO:-0500
TZNAME:CDT
DTSTART:20200308T080000
END:DAYLIGHT
BEGIN:STANDARD
TZOFFSETFROM:-0500
TZOFFSETTO:-0600
TZNAME:CST
DTSTART:20201101T070000
END:STANDARD
BEGIN:DAYLIGHT
TZOFFSETFROM:-0600
TZOFFSETTO:-0500
TZNAME:CDT
DTSTART:20210314T080000
END:DAYLIGHT
BEGIN:STANDARD
TZOFFSETFROM:-0500
TZOFFSETTO:-0600
TZNAME:CST
DTSTART:20211107T070000
END:STANDARD
BEGIN:DAYLIGHT
TZOFFSETFROM:-0600
TZOFFSETTO:-0500
TZNAME:CDT
DTSTART:20220313T080000
END:DAYLIGHT
BEGIN:STANDARD
TZOFFSETFROM:-0500
TZOFFSETTO:-0600
TZNAME:CST
DTSTART:20221106T070000
END:STANDARD
END:VTIMEZONE
BEGIN:VEVENT
DTSTART;TZID=America/New_York:20250105T170000
DTEND;TZID=America/New_York:20250105T190000
DTSTAMP:20260423T131350
CREATED:20241114T215005Z
LAST-MODIFIED:20241114T215005Z
UID:25335-1736096400-1736103600@www.concretepavements.org
SUMMARY:Annual ISCP Open Membership and Board Meeting
DESCRIPTION:Share this:\n				Email a link to a friend (Opens in new window)\n				Email\n			\n				Print (Opens in new window)\n				Print\n			\n				Share on Facebook (Opens in new window)\n				Facebook\n			\n				Share on LinkedIn (Opens in new window)\n				LinkedIn\n			\n				Share on X (Opens in new window)\n				X
URL:https://www.concretepavements.org/event/annual-iscp-open-membership-and-board-meeting/
LOCATION:Marquis Salon 14 (Level M2) of Marriott Marquis\, 901 Massachusetts Ave NW\, Washington\, DC\, 20001\, United States
CATEGORIES:ISCP Events,ISCP Members' Events,Meetings,VIRTUAL Meeting
END:VEVENT
BEGIN:VEVENT
DTSTART;TZID=America/New_York:20220419T110000
DTEND;TZID=America/New_York:20220421T143000
DTSTAMP:20260423T131350
CREATED:20220211T233615Z
LAST-MODIFIED:20220309T184157Z
UID:21901-1650366000-1650551400@www.concretepavements.org
SUMMARY:NRMCA 3-Day Online Course: “Improving Concrete Quality”
DESCRIPTION:“Improving Concrete Quality“\nOnline course with live 3-hour Zoom sessions over 3 days:\nDAY 1: Tuesday\, April 19\, 2022:\n11:00 am – 12:30 pm | BREAK | 1:30 pm – 2:15 pm\nDAY 2: Wednesday\, April 20\, 2022:\n11:00 am – 12:30 pm | BREAK | 1:30 pm – 2:30 pm\nDAY 3: Thursday\, April 21\, 2022:\n11:00 am Group Discussion and Q&A \nShare this:\n				Email a link to a friend (Opens in new window)\n				Email\n			\n				Print (Opens in new window)\n				Print\n			\n				Share on Facebook (Opens in new window)\n				Facebook\n			\n				Share on LinkedIn (Opens in new window)\n				LinkedIn\n			\n				Share on X (Opens in new window)\n				X
URL:https://www.concretepavements.org/event/nrmca-online-course-improving-concrete-quality/
LOCATION:DC
CATEGORIES:Courses,Live Webinars,VIRTUAL Meeting
ATTACH;FMTTYPE=image/jpeg:https://www.concretepavements.org/wp-content/uploads/2022/02/NRMCA-forEVENTS.jpg
END:VEVENT
BEGIN:VEVENT
DTSTART;TZID=America/New_York:20220220T080000
DTEND;TZID=America/New_York:20220226T170000
DTSTAMP:20260423T131351
CREATED:20220128T234004Z
LAST-MODIFIED:20220323T031414Z
UID:21667-1645344000-1645894800@www.concretepavements.org
SUMMARY:U.S. “2022 Nat’l Engineers Week”: Engage Kids\, “Future City” Comp.\, Events\, Chats\, & more!
DESCRIPTION:Share this:\n				Email a link to a friend (Opens in new window)\n				Email\n			\n				Print (Opens in new window)\n				Print\n			\n				Share on Facebook (Opens in new window)\n				Facebook\n			\n				Share on LinkedIn (Opens in new window)\n				LinkedIn\n			\n				Share on X (Opens in new window)\n				X
URL:https://www.concretepavements.org/event/u-s-2022-natl-engineers-week-engage-kids-future-city-comp-events-chats-more/
LOCATION:DC
CATEGORIES:Awards,Contest,Exhibitions,Lecture,Live Broadcast,Live Demonstrations,Live Webinars,Presentation,Tech Day,VIRTUAL Meeting
ATTACH;FMTTYPE=image/jpeg:https://www.concretepavements.org/wp-content/uploads/2022/01/EngineersWeek-HOME.jpg
ORGANIZER;CN="National Society of Professional Engineers (NSPE)":MAILTO:memserv@nspe.org
END:VEVENT
BEGIN:VEVENT
DTSTART;TZID=America/New_York:20220131T133000
DTEND;TZID=America/New_York:20220131T143000
DTSTAMP:20260423T131351
CREATED:20220126T044002Z
LAST-MODIFIED:20220126T044002Z
UID:21606-1643635800-1643639400@www.concretepavements.org
SUMMARY:WEBINAR: FAA “IIJA 2022 Airport Funding”: “Virtual Vendor Day”
DESCRIPTION:Share this:\n				Email a link to a friend (Opens in new window)\n				Email\n			\n				Print (Opens in new window)\n				Print\n			\n				Share on Facebook (Opens in new window)\n				Facebook\n			\n				Share on LinkedIn (Opens in new window)\n				LinkedIn\n			\n				Share on X (Opens in new window)\n				X
URL:https://www.concretepavements.org/event/webinar-faa-iija-2022-airport-funding-virtual-vendor-day/
LOCATION:DC
CATEGORIES:Live Webinars,VIRTUAL Meeting
ATTACH;FMTTYPE=image/jpeg:https://www.concretepavements.org/wp-content/uploads/2022/01/IIJA-HOMEstriped.jpg
ORGANIZER;CN="Federal Aviation Administration - FAA":MAILTO:lelanie.rivera@faa.gov
END:VEVENT
BEGIN:VEVENT
DTSTART;TZID=America/New_York:20211020T073000
DTEND;TZID=America/New_York:20211020T110000
DTSTAMP:20260423T131351
CREATED:20210927T060152Z
LAST-MODIFIED:20210927T060315Z
UID:20163-1634715000-1634727600@www.concretepavements.org
SUMMARY:EUPAVE 6th Workshop on Best Practices in Concrete Paving: "Pervious Concrete Pavements: An Overview of European Experiences"—Hybrid Event: ONLINE (& In Person)
DESCRIPTION:ONLINE REGISTRATION by Fri Oct 15:\n7:30 AM to 11:00 AM Time zone: (UTC-05:00) Eastern Daylight Time (EDT)(US & Canada)\nhttps://teams.microsoft.com/registration/4BqKRpG17UaKSDw33JSRtA\,A9cH4mjpbUKi6_Sar_ShZw\,uiDlOE0ZJEu46udW5F9u-Q\,hTlhMx9UzkeWhV02OezglA\,aO1SvtfZr0iXdnMq_or6Ow\,Znzq-jc12Uy-4Dk3QJuRHA?mode=read&tenantId=468a1ae0-b591-46ed-8a48-3c37dc9491b4&skipauthstrap=1 \n2-page invitation\, please click on image above\, or go to: www.eupave.eu/wp-content/uploads/Invitation-EUPAVE-6th-Best-Practices-workshop-20-October-2021-3.pdf \nPlease see other event for the IN PERSON: Brussels Belgium (GMT+2): 13:00 to 17:00 \nShare this:\n				Email a link to a friend (Opens in new window)\n				Email\n			\n				Print (Opens in new window)\n				Print\n			\n				Share on Facebook (Opens in new window)\n				Facebook\n			\n				Share on LinkedIn (Opens in new window)\n				LinkedIn\n			\n				Share on X (Opens in new window)\n				X
URL:https://www.concretepavements.org/event/eupave-6th-workshop-on-best-practices-in-concrete-paving-pervious-concrete-pavements-an-overview-of-european-experiences-hybrid-event-online-in-person/
LOCATION:DC
CATEGORIES:Live Broadcast,VIRTUAL Meeting,Workshops
ATTACH;FMTTYPE=image/jpeg:https://www.concretepavements.org/wp-content/uploads/2021/09/EUPAVEWorkshopHOME.jpg
ORGANIZER;CN="EUPAVE":MAILTO:info@eupave.eu
END:VEVENT
BEGIN:VEVENT
DTSTART;VALUE=DATE:20210927
DTEND;VALUE=DATE:20211002
DTSTAMP:20260423T131351
CREATED:20190109T184255Z
LAST-MODIFIED:20210720T223547Z
UID:10889-1632700800-1633132799@www.concretepavements.org
SUMMARY:12th International Conference on Concrete Pavements - ONLINE EVENT
DESCRIPTION:Between unknown international travel and limited travel opportunities for state agencies in the United States\, we can announce that the 12th ICCP has been MOVED ONLINE for 2021\n \nShare this:\n				Email a link to a friend (Opens in new window)\n				Email\n			\n				Print (Opens in new window)\n				Print\n			\n				Share on Facebook (Opens in new window)\n				Facebook\n			\n				Share on LinkedIn (Opens in new window)\n				LinkedIn\n			\n				Share on X (Opens in new window)\n				X
URL:https://www.concretepavements.org/event/12th-international-conference-on-concrete-pavements/
LOCATION:DC
CATEGORIES:Conferences,Exhibitions,ISCP Events,ISCP Members' Events,Live Broadcast,Registration,Sponsorships,VIRTUAL Meeting
ATTACH;FMTTYPE=image/png:https://www.concretepavements.org/wp-content/uploads/2021/07/12thVirtualLOGO_round.png
END:VEVENT
BEGIN:VEVENT
DTSTART;TZID=America/New_York:20210809T120000
DTEND;TZID=America/New_York:20210813T163000
DTSTAMP:20260423T131351
CREATED:20210805T172444Z
LAST-MODIFIED:20210805T172444Z
UID:19628-1628510400-1628872200@www.concretepavements.org
SUMMARY:AASHTO Committee on Construction VIRTUAL ANNUAL MTG
DESCRIPTION:Share this:\n				Email a link to a friend (Opens in new window)\n				Email\n			\n				Print (Opens in new window)\n				Print\n			\n				Share on Facebook (Opens in new window)\n				Facebook\n			\n				Share on LinkedIn (Opens in new window)\n				LinkedIn\n			\n				Share on X (Opens in new window)\n				X
URL:https://www.concretepavements.org/event/aashto-committee-on-construction-virtual-annual-mtg/
LOCATION:DC
CATEGORIES:Conferences,Exhibitions,Forum,Live Broadcast,Meetings,Presentation,VIRTUAL Meeting
ATTACH;FMTTYPE=image/png:https://www.concretepavements.org/wp-content/uploads/2021/08/AASHTOAug2021.png
ORGANIZER;CN="AASHTO":MAILTO:info@aashto.org
END:VEVENT
BEGIN:VEVENT
DTSTART;TZID=America/New_York:20210524T080000
DTEND;TZID=America/New_York:20210527T170000
DTSTAMP:20260423T131351
CREATED:20210405T182612Z
LAST-MODIFIED:20210405T182612Z
UID:18113-1621843200-1622134800@www.concretepavements.org
SUMMARY:VIRTUAL Conf: "4th International Conference on Transportation Geotechnics” (“4th ICTG”)"
DESCRIPTION:REGISTRATION is now OPEN! http://conferences.illinois.edu/ICTG2021/registration.html\nHosted by the University of Illinois at Urbana Champaign.\nEarly-Bird Registration through March 31 \nSCHEDULE:\nMarch 31\, 2021: Early-bird registration DEADLINE\nMay 24-27\, 2021: 4th ICTG VIRTUAL CONFERENCE \nShare this:\n				Email a link to a friend (Opens in new window)\n				Email\n			\n				Print (Opens in new window)\n				Print\n			\n				Share on Facebook (Opens in new window)\n				Facebook\n			\n				Share on LinkedIn (Opens in new window)\n				LinkedIn\n			\n				Share on X (Opens in new window)\n				X
URL:https://www.concretepavements.org/event/virtual-conf-4th-international-conference-on-transportation-geotechnics-4th-ictg/
LOCATION:DC
CATEGORIES:Conferences,VIRTUAL Meeting
ATTACH;FMTTYPE=image/png:https://www.concretepavements.org/wp-content/uploads/2021/03/4thHOMEphoto.png
ORGANIZER;CN="International Society of Soil Mechanics and Geotechnical Engineering (ISSMGE":MAILTO:secretariat@issmge.org
END:VEVENT
BEGIN:VEVENT
DTSTART;TZID=America/New_York:20210520T130000
DTEND;TZID=America/New_York:20210520T160000
DTSTAMP:20260423T131351
CREATED:20210508T222238Z
LAST-MODIFIED:20210508T222238Z
UID:18376-1621515600-1621526400@www.concretepavements.org
SUMMARY:ARTBA & AGC: 2021 Transportation Construction Legislative Coalition Virtual Fly-In
DESCRIPTION:The 20th Annual Transportation Construction Coalition Legislative Virtual Fly-In will once again be a “virtual” event May 20\, 2021 from 1:00 pm – 4:00 pm (EDT)(USA). American Road & Transportation Builders Association (ARTBA) and Associated General Contractors (AGC) invite you to join your industry allies to get the latest on the FAST Act surface transportation law reauthorization and progress on Congress’s infrastructure initiative the American Jobs Plan. \nShare this:\n				Email a link to a friend (Opens in new window)\n				Email\n			\n				Print (Opens in new window)\n				Print\n			\n				Share on Facebook (Opens in new window)\n				Facebook\n			\n				Share on LinkedIn (Opens in new window)\n				LinkedIn\n			\n				Share on X (Opens in new window)\n				X
URL:https://www.concretepavements.org/event/artba-agc-2021-transportation-construction-legislative-coalition-virtual-fly-in/
LOCATION:DC
CATEGORIES:VIRTUAL Meeting
ATTACH;FMTTYPE=image/png:https://www.concretepavements.org/wp-content/uploads/2020/11/artbalogo1.png
ORGANIZER;CN="American Road & Transportation Builders Association (ARTBA)":MAILTO:https://connect.artba.org/contact-us
END:VEVENT
BEGIN:VEVENT
DTSTART;TZID=America/New_York:20210420T080000
DTEND;TZID=America/New_York:20210422T170000
DTSTAMP:20260423T131351
CREATED:20210108T043506Z
LAST-MODIFIED:20210127T064145Z
UID:17189-1618905600-1619110800@www.concretepavements.org
SUMMARY:SAVE THE DATE! VIRTUAL “Cement & Concrete Industry Fly-In”
DESCRIPTION:Share this:\n				Email a link to a friend (Opens in new window)\n				Email\n			\n				Print (Opens in new window)\n				Print\n			\n				Share on Facebook (Opens in new window)\n				Facebook\n			\n				Share on LinkedIn (Opens in new window)\n				LinkedIn\n			\n				Share on X (Opens in new window)\n				X
URL:https://www.concretepavements.org/event/save-the-date-virtual-cement-concrete-industry-fly-in/
LOCATION:DC
CATEGORIES:Live Webinars,VIRTUAL Meeting
ATTACH;FMTTYPE=image/jpeg:https://www.concretepavements.org/wp-content/uploads/2021/01/LAPTOPknockoutHOME.jpg
ORGANIZER;CN="North American Concrete Alliance (NACA)":MAILTO:RDerby@cement.org
END:VEVENT
BEGIN:VEVENT
DTSTART;TZID=America/New_York:20210328T080000
DTEND;TZID=America/New_York:20210401T170000
DTSTAMP:20260423T131351
CREATED:20210205T044328Z
LAST-MODIFIED:20210205T044328Z
UID:17467-1616918400-1617296400@www.concretepavements.org
SUMMARY:Virtual ACI 2021 Spring Convention
DESCRIPTION:Share this:\n				Email a link to a friend (Opens in new window)\n				Email\n			\n				Print (Opens in new window)\n				Print\n			\n				Share on Facebook (Opens in new window)\n				Facebook\n			\n				Share on LinkedIn (Opens in new window)\n				LinkedIn\n			\n				Share on X (Opens in new window)\n				X
URL:https://www.concretepavements.org/event/virtual-aci-2021-spring-convention/
LOCATION:DC
CATEGORIES:Exhibitions,Live Broadcast,Live Demonstrations,Live Webinars,Meetings,Sponsorships,VIRTUAL Meeting
ATTACH;FMTTYPE=image/png:https://www.concretepavements.org/wp-content/uploads/2021/02/ACIVirtualConventionHOME.png
END:VEVENT
BEGIN:VEVENT
DTSTART;TZID=America/New_York:20210209T100000
DTEND;TZID=America/New_York:20210211T134500
DTSTAMP:20260423T131351
CREATED:20210204T214442Z
LAST-MODIFIED:20210204T214952Z
UID:17439-1612864800-1613051100@www.concretepavements.org
SUMMARY:ACI Foundation: "Virtual SDC Technology Forum 49"
DESCRIPTION:ACI Foundation‘s Virtual Strategic Development Council (SDC) \nShare this:\n				Email a link to a friend (Opens in new window)\n				Email\n			\n				Print (Opens in new window)\n				Print\n			\n				Share on Facebook (Opens in new window)\n				Facebook\n			\n				Share on LinkedIn (Opens in new window)\n				LinkedIn\n			\n				Share on X (Opens in new window)\n				X
URL:https://www.concretepavements.org/event/aci-foundation-virtual-sdc-technology-forum-49/
LOCATION:DC
CATEGORIES:Forum,VIRTUAL Meeting
ATTACH;FMTTYPE=image/png:https://www.concretepavements.org/wp-content/uploads/2021/02/ACIFoundationLogoSmall.png
END:VEVENT
BEGIN:VEVENT
DTSTART;TZID=America/New_York:20210121T160000
DTEND;TZID=America/New_York:20210121T180000
DTSTAMP:20260423T131351
CREATED:20210104T000402Z
LAST-MODIFIED:20210120T040238Z
UID:17160-1611244800-1611252000@www.concretepavements.org
SUMMARY:*ISCP VIRTUAL Annual Open Membership & Board Meeting*
DESCRIPTION:ISCP Membership Meeting article: www.concretepavements.org/2021/01/03/iscp-virtual-annual-open-membership-board-meeting-to-be-held-jan-21-2021/\nJoin Meeting: https://uasystem.zoom.us/j/721867356#success \nShare this:\n				Email a link to a friend (Opens in new window)\n				Email\n			\n				Print (Opens in new window)\n				Print\n			\n				Share on Facebook (Opens in new window)\n				Facebook\n			\n				Share on LinkedIn (Opens in new window)\n				LinkedIn\n			\n				Share on X (Opens in new window)\n				X
URL:https://www.concretepavements.org/event/iscp-virtual-annual-open-membership-board-meeting/
LOCATION:Online
CATEGORIES:ISCP Events,ISCP Members' Events,VIRTUAL Meeting
ATTACH;FMTTYPE=image/jpeg:https://www.concretepavements.org/wp-content/uploads/2021/01/ISCPMEMBERSHIPlogo.jpg
END:VEVENT
BEGIN:VEVENT
DTSTART;TZID=America/New_York:20201201T080000
DTEND;TZID=America/New_York:20201203T170000
DTSTAMP:20260423T131351
CREATED:20200924T015056Z
LAST-MODIFIED:20200924T015056Z
UID:16479-1606809600-1607014800@www.concretepavements.org
SUMMARY:ACPA 57th Annual Meeting Pivots to a VIRTUAL EVENT!
DESCRIPTION:Final schedule will be released soon … \nShare this:\n				Email a link to a friend (Opens in new window)\n				Email\n			\n				Print (Opens in new window)\n				Print\n			\n				Share on Facebook (Opens in new window)\n				Facebook\n			\n				Share on LinkedIn (Opens in new window)\n				LinkedIn\n			\n				Share on X (Opens in new window)\n				X
URL:https://www.concretepavements.org/event/acpa-57th-annual-meeting-pivots-to-a-virtual-event/
LOCATION:Online
CATEGORIES:Awards,VIRTUAL Meeting
END:VEVENT
END:VCALENDAR