BEGIN:VCALENDAR
VERSION:2.0
PRODID:-//International Society for Concrete Pavements - ECPv6.15.20//NONSGML v1.0//EN
CALSCALE:GREGORIAN
METHOD:PUBLISH
X-ORIGINAL-URL:https://www.concretepavements.org
X-WR-CALDESC:Events for International Society for Concrete Pavements
REFRESH-INTERVAL;VALUE=DURATION:PT1H
X-Robots-Tag:noindex
X-PUBLISHED-TTL:PT1H
BEGIN:VTIMEZONE
TZID:America/New_York
BEGIN:DAYLIGHT
TZOFFSETFROM:-0500
TZOFFSETTO:-0400
TZNAME:EDT
DTSTART:20190310T070000
END:DAYLIGHT
BEGIN:STANDARD
TZOFFSETFROM:-0400
TZOFFSETTO:-0500
TZNAME:EST
DTSTART:20191103T060000
END:STANDARD
BEGIN:DAYLIGHT
TZOFFSETFROM:-0500
TZOFFSETTO:-0400
TZNAME:EDT
DTSTART:20200308T070000
END:DAYLIGHT
BEGIN:STANDARD
TZOFFSETFROM:-0400
TZOFFSETTO:-0500
TZNAME:EST
DTSTART:20201101T060000
END:STANDARD
BEGIN:DAYLIGHT
TZOFFSETFROM:-0500
TZOFFSETTO:-0400
TZNAME:EDT
DTSTART:20210314T070000
END:DAYLIGHT
BEGIN:STANDARD
TZOFFSETFROM:-0400
TZOFFSETTO:-0500
TZNAME:EST
DTSTART:20211107T060000
END:STANDARD
END:VTIMEZONE
BEGIN:VEVENT
DTSTART;TZID=America/New_York:20201130T080000
DTEND;TZID=America/New_York:20201201T150000
DTSTAMP:20260423T131350
CREATED:20200923T180746Z
LAST-MODIFIED:20200923T180746Z
UID:16458-1606723200-1606834800@www.concretepavements.org
SUMMARY:First-Ever 11-Day VIRTUAL “Global Concrete Summit”
DESCRIPTION:Share this:\n				Email a link to a friend (Opens in new window)\n				Email\n			\n				Print (Opens in new window)\n				Print\n			\n				Share on Facebook (Opens in new window)\n				Facebook\n			\n				Share on LinkedIn (Opens in new window)\n				LinkedIn\n			\n				Share on X (Opens in new window)\n				X
URL:https://www.concretepavements.org/event/first-ever-11-day-virtual-global-concrete-summit/
LOCATION:Online
CATEGORIES:VIRTUAL Summit
END:VEVENT
BEGIN:VEVENT
DTSTART;TZID=America/New_York:20200923T120000
DTEND;TZID=America/New_York:20200925T160000
DTSTAMP:20260423T131350
CREATED:20200924T020154Z
LAST-MODIFIED:20200924T020154Z
UID:16482-1600862400-1601049600@www.concretepavements.org
SUMMARY:2020 VIRTUAL “P3 Airport Summit”
DESCRIPTION:EACH OF THE 3 DAYS:\nSep 23-25\, 2020 | 12:00 PM EST – 4:00 EST \nAGENDA:\nwww.p3airportsummit.com/page/1565818/agenda \nBROCHURE: www.s3.amazonaws.com/bizzabo.users.files/116443/217195/1662783/2020%20P3%20Airport%20Prospectus.pdf \nShare this:\n				Email a link to a friend (Opens in new window)\n				Email\n			\n				Print (Opens in new window)\n				Print\n			\n				Share on Facebook (Opens in new window)\n				Facebook\n			\n				Share on LinkedIn (Opens in new window)\n				LinkedIn\n			\n				Share on X (Opens in new window)\n				X
URL:https://www.concretepavements.org/event/2020-virtual-p3-airport-summit/
LOCATION:Online
CATEGORIES:VIRTUAL Summit
ORGANIZER;CN="P3 Summit":MAILTO:splombon@accessintel.com
END:VEVENT
END:VCALENDAR