BEGIN:VCALENDAR
VERSION:2.0
PRODID:-//International Society for Concrete Pavements - ECPv6.15.20//NONSGML v1.0//EN
CALSCALE:GREGORIAN
METHOD:PUBLISH
X-WR-CALNAME:International Society for Concrete Pavements
X-ORIGINAL-URL:https://www.concretepavements.org
X-WR-CALDESC:Events for International Society for Concrete Pavements
REFRESH-INTERVAL;VALUE=DURATION:PT1H
X-Robots-Tag:noindex
X-PUBLISHED-TTL:PT1H
BEGIN:VTIMEZONE
TZID:America/New_York
BEGIN:DAYLIGHT
TZOFFSETFROM:-0500
TZOFFSETTO:-0400
TZNAME:EDT
DTSTART:20230312T070000
END:DAYLIGHT
BEGIN:STANDARD
TZOFFSETFROM:-0400
TZOFFSETTO:-0500
TZNAME:EST
DTSTART:20231105T060000
END:STANDARD
BEGIN:DAYLIGHT
TZOFFSETFROM:-0500
TZOFFSETTO:-0400
TZNAME:EDT
DTSTART:20240310T070000
END:DAYLIGHT
BEGIN:STANDARD
TZOFFSETFROM:-0400
TZOFFSETTO:-0500
TZNAME:EST
DTSTART:20241103T060000
END:STANDARD
BEGIN:DAYLIGHT
TZOFFSETFROM:-0500
TZOFFSETTO:-0400
TZNAME:EDT
DTSTART:20250309T070000
END:DAYLIGHT
BEGIN:STANDARD
TZOFFSETFROM:-0400
TZOFFSETTO:-0500
TZNAME:EST
DTSTART:20251102T060000
END:STANDARD
END:VTIMEZONE
BEGIN:VEVENT
DTSTART;VALUE=DATE:20240606
DTEND;VALUE=DATE:20240609
DTSTAMP:20260424T151349
CREATED:20240105T210520Z
LAST-MODIFIED:20240105T210545Z
UID:24370-1717632000-1717891199@www.concretepavements.org
SUMMARY:6th International Symposium on Pavement\, Roadway\, and Bridge Life Cycle Assessment
DESCRIPTION:Share this:\n				Email a link to a friend (Opens in new window)\n				Email\n			\n				Print (Opens in new window)\n				Print\n			\n				Share on Facebook (Opens in new window)\n				Facebook\n			\n				Share on LinkedIn (Opens in new window)\n				LinkedIn\n			\n				Share on X (Opens in new window)\n				X
URL:https://www.concretepavements.org/event/6th-international-symposium-on-pavement-roadway-and-bridge-life-cycle-assessment/
LOCATION:Arlington VA\, Arlington\, VA\, United States
CATEGORIES:Conferences
END:VEVENT
BEGIN:VEVENT
DTSTART;VALUE=DATE:20240615
DTEND;VALUE=DATE:20240619
DTSTAMP:20260424T151349
CREATED:20240105T210245Z
LAST-MODIFIED:20240105T210551Z
UID:24364-1718409600-1718755199@www.concretepavements.org
SUMMARY:ASCE International Conference on Transportation and Development (ICTD 2024)
DESCRIPTION:Share this:\n				Email a link to a friend (Opens in new window)\n				Email\n			\n				Print (Opens in new window)\n				Print\n			\n				Share on Facebook (Opens in new window)\n				Facebook\n			\n				Share on LinkedIn (Opens in new window)\n				LinkedIn\n			\n				Share on X (Opens in new window)\n				X
URL:https://www.concretepavements.org/event/asce-international-conference-on-transportation-and-development-ictd-2024/
LOCATION:Atlanta\, GA\, USA\, Atlanta\, GA\, United States
CATEGORIES:Conferences
END:VEVENT
END:VCALENDAR